BEGIN:VCALENDAR
VERSION:2.0
PRODID:-//คณะแพทยศาสตร์ศิริราชพยาบาล มหาวิทยาลัยมหิดล - ECPv6.15.20//NONSGML v1.0//EN
CALSCALE:GREGORIAN
METHOD:PUBLISH
X-WR-CALNAME:คณะแพทยศาสตร์ศิริราชพยาบาล มหาวิทยาลัยมหิดล
X-ORIGINAL-URL:https://www2.si.mahidol.ac.th/th
X-WR-CALDESC:Events for คณะแพทยศาสตร์ศิริราชพยาบาล มหาวิทยาลัยมหิดล
REFRESH-INTERVAL;VALUE=DURATION:PT1H
X-Robots-Tag:noindex
X-PUBLISHED-TTL:PT1H
BEGIN:VTIMEZONE
TZID:Asia/Bangkok
BEGIN:STANDARD
TZOFFSETFROM:+0700
TZOFFSETTO:+0700
TZNAME:+07
DTSTART:20230101T000000
END:STANDARD
END:VTIMEZONE
BEGIN:VEVENT
DTSTART;TZID=Asia/Bangkok:20240828T083000
DTEND;TZID=Asia/Bangkok:20240910T163000
DTSTAMP:20260421T121153
CREATED:20240808T093952Z
LAST-MODIFIED:20240816T083140Z
UID:7214-1724833800-1725985800@www2.si.mahidol.ac.th
SUMMARY:ขอเชิญเข้าร่วมอบรมการดูแลผู้ที่มีภาวะสมองเสื่อม ประจำปี 2567
DESCRIPTION:ภาควิชาเวชศาสตร์ป้องกันและสังคม โดย คลินิกผู้สูงอายุ ขอเชิญผู้ดูแลผู้ป่วยสมองเสื่อมเข้าร่วมอบรมการดูแลผู้ที่มีภาวะสมองเสื่อม ประจำปี 2567 ในวันพุธที่ 28 สิงหาคม 2567 เวลา 08.00-16.30 น. ณ หอประชุมราชแพทยาลัย โรงพยาบาลศิริราช\nลงทะเบียนเข้าอบรม คลิก>> https://bit.ly/4bR3UmC?r=qr 
URL:https://www2.si.mahidol.ac.th/th/event/%e0%b8%82%e0%b8%ad%e0%b9%80%e0%b8%8a%e0%b8%b4%e0%b8%8d%e0%b9%80%e0%b8%82%e0%b9%89%e0%b8%b2%e0%b8%a3%e0%b9%88%e0%b8%a7%e0%b8%a1%e0%b8%ad%e0%b8%9a%e0%b8%a3%e0%b8%a1%e0%b8%81%e0%b8%b2%e0%b8%a3%e0%b8%94%e0%b8%b9%e0%b9%81%e0%b8%a5%e0%b8%9c%e0%b8%b9%e0%b9%89%e0%b8%97%e0%b8%b5%e0%b9%88%e0%b8%a1%e0%b8%b5%e0%b8%a0%e0%b8%b2%e0%b8%a7%e0%b8%b0%e0%b8%aa%e0%b8%a1%e0%b8%ad%e0%b8%87%e0%b9%80%e0%b8%aa%e0%b8%b7%e0%b9%88%e0%b8%ad%e0%b8%a1-%e0%b8%9b%e0%b8%a3%e0%b8%b0%e0%b8%88%e0%b8%b3%e0%b8%9b%e0%b8%b5-2567/
CATEGORIES:calendar,อบรม-สัมมนา-บรรยาย-ประชุม
ATTACH;FMTTYPE=image/jpeg:https://www2.si.mahidol.ac.th/th/wp-content/uploads/2024/08/8-27-67สมองE.jpg
END:VEVENT
BEGIN:VEVENT
DTSTART;TZID=Asia/Bangkok:20240905T083000
DTEND;TZID=Asia/Bangkok:20240906T160000
DTSTAMP:20260421T121153
CREATED:20240813T103749Z
LAST-MODIFIED:20240829T074722Z
UID:7296-1725525000-1725638400@www2.si.mahidol.ac.th
SUMMARY:งานมหกรรมคุณภาพ (Quality Fair) ประจำปี 2567 "Quality for One Siriraj"
DESCRIPTION:งานพัฒนาคุณภาพ ขอเชิญร่วมงานมหกรรมคุณภาพ (Quality Fair) ครั้งที่ 23 ประจำปี 2567 หัวข้อ “Quality for One Siriraj” ระหว่างวันที่ 5-6 กันยายน 2567 ณ ห้องประชุมราชปนัดดาสิรินธร อาคารศรีสวรินทิรา ชั้น 1 คณะเเพทยศาสตร์ศิริราชพยาบาล \nรับชมถ่ายทอดสดผ่านระบบเน็ตเวิร์ค SiBN\, IPTV\, Facebook งานพัฒนาคุณภาพ \nกำหนดการงานมหกรรมคุณภาพ (Quality Fair) ประจำปี 2567 คลิก
URL:https://www2.si.mahidol.ac.th/th/event/%e0%b8%87%e0%b8%b2%e0%b8%99%e0%b8%a1%e0%b8%ab%e0%b8%81%e0%b8%a3%e0%b8%a3%e0%b8%a1%e0%b8%84%e0%b8%b8%e0%b8%93%e0%b8%a0%e0%b8%b2%e0%b8%9e-quality-fair-%e0%b8%9b%e0%b8%a3%e0%b8%b0%e0%b8%88%e0%b8%b3%e0%b8%9b%e0%b8%b5-2567-quality-for-one-siriraj/
CATEGORIES:calendar,อบรม-สัมมนา-บรรยาย-ประชุม
ATTACH;FMTTYPE=image/jpeg:https://www2.si.mahidol.ac.th/th/wp-content/uploads/2024/08/9-5-67QF2024.jpg
END:VEVENT
END:VCALENDAR