BEGIN:VCALENDAR
VERSION:2.0
PRODID:-//คณะแพทยศาสตร์ศิริราชพยาบาล มหาวิทยาลัยมหิดล - ECPv6.15.20//NONSGML v1.0//EN
CALSCALE:GREGORIAN
METHOD:PUBLISH
X-WR-CALNAME:คณะแพทยศาสตร์ศิริราชพยาบาล มหาวิทยาลัยมหิดล
X-ORIGINAL-URL:https://www2.si.mahidol.ac.th/th
X-WR-CALDESC:Events for คณะแพทยศาสตร์ศิริราชพยาบาล มหาวิทยาลัยมหิดล
REFRESH-INTERVAL;VALUE=DURATION:PT1H
X-Robots-Tag:noindex
X-PUBLISHED-TTL:PT1H
BEGIN:VTIMEZONE
TZID:Asia/Bangkok
BEGIN:STANDARD
TZOFFSETFROM:+0700
TZOFFSETTO:+0700
TZNAME:+07
DTSTART:20230101T000000
END:STANDARD
END:VTIMEZONE
BEGIN:VEVENT
DTSTART;VALUE=DATE:20241104
DTEND;VALUE=DATE:20241214
DTSTAMP:20260421T044038
CREATED:20241014T024753Z
LAST-MODIFIED:20241114T074314Z
UID:8447-1730678400-1734134399@www2.si.mahidol.ac.th
SUMMARY:เปิดรับสมัครบุตรของบุคลากรและบุคคลภายนอกในพื้นที่รอบรพ.ศิริราช ที่มีอายุ 3 – 11 เดือน เข้ารับบริการเลี้ยงดูในรอบเดือนมกราคม – มีนาคม 2568
DESCRIPTION:ศูนย์รับเลี้ยงและพัฒนาเด็กศิริราช ฝ่ายทรัพยากรบุคคล เปิดรับสมัครบุตรของบุคลากร ที่มีอายุ 3 – 11 เดือน เข้ารับบริการเลี้ยงดูในรอบเดือนมกราคม – มีนาคม 2568 \nรายละเอียดกำหนดการ \n\nระหว่างวันที่ 4 พฤศจิกายน – 13 ธันวาคม 2567    คลิกใบสมัครในระบบออนไลน์ \nวันที่  17 ธันวาคม 2567 ลงทะเบียนเเละส่งเอกสาร\nวันที่ 18 ธันวาคม 2567 ประกาศรายชื่อผู้มีสิทธิ์\nวันที่ 20 ธันวาคม 2567 สัมภาษณ์ทำสัญญา กลุ่ม 1\n\nคุณสมบัติผู้สมัคร \n1. เป็นบุตรของบุคลากร สังกัดคณะแพทยศาสตร์ศิริราชพยาบาล\nหน่วยงานที่ตั้งอยู่ในพื้นที่โรงพยาบาลศิริราช และบุคคลภายนอก\n2. บุตรมีอายุ 3 – 11 เดือน เกิดระหว่างวันที่ 1 เมษายน ถึง 30 พฤศจิกายน พ.ศ. 2567\n3. บุตรมีสุขภาพสมบูรณ์แข็งแรง ได้รับวัคซีนครบตามเกณฑ์ \n**โปรดแสดงสิทธิ์\nสำหรับบุคลากรภายใน ให้ใช้ รหัสพนักงาน (SAP ID) ของท่าน\nบุคคลภายนอกให้ใช้ เลขที่บัตรประชาชน หากตรวจสอบพบว่า เป็นของผู้อื่นถือเป็นโมฆะ \n**โปรดให้ความสำคัญ ศึกษารายละเอียด *ระเบียบการรับสมัคร ประจำปีงบประมาณ 2568* ได้ที่ >> https://www.si.mahidol.ac.th/th/division/daycare/index.asp \nศูนย์รับเลี้ยงและพัฒนาเด็กศิริราช อาคารหอพักพยาบาล 1 ชั้น 1 (ประตู 9) วันจันทร์ – วันศุกร์ เวลา 09.00 – 14.00 น.  สอบถาม โทร. 02 419 5722\, 02 419 7626
URL:https://www2.si.mahidol.ac.th/th/event/8447/
CATEGORIES:calendar,มีข่าวอยากบอก
ATTACH;FMTTYPE=image/jpeg:https://www2.si.mahidol.ac.th/th/wp-content/uploads/2024/10/12-13-67PRรับสมัครSDC68รอบ2_2567-EEE.jpg
END:VEVENT
BEGIN:VEVENT
DTSTART;TZID=Asia/Bangkok:20241115T090000
DTEND;TZID=Asia/Bangkok:20241115T170000
DTSTAMP:20260421T044038
CREATED:20240921T103857Z
LAST-MODIFIED:20241106T083628Z
UID:8031-1731661200-1731690000@www2.si.mahidol.ac.th
SUMMARY:เชิญชวนภาควิชา/หน่วยงาน ภายในคณะ ฯ ร่วมประกวดกิจกรรมในงานประเพณีลอยกระทงศิริราช ประจำปี 2567
DESCRIPTION:คณะแพทยศาสตร์ศิริราชพยาบาล กำหนดจัดการจัดงานประเพณีลอยกระทงศิริราช ประจำปี 2567 ภายใต้แนวคิด “ศิริราชลอยกระทง ยั่งยืนยงด้วยความดีร่วมรักษ์สายนที สร้างความดีที่ยืนยาว” ในวันศุกร์ที่ 15 พฤศจิกายน 2567 ณ โรงพยาบาลศิริราช\nภายในงานจัดให้มีกิจกรรมต่าง ๆ ดังนี้\n– การประกวดประดิษฐ์กระทง (ไม่จำกัดเพศและอายุ)\n– ประกวดนางนพมาศ (ไม่จำกัดเพศและอายุ)\n– ประกวดขบวนแห่\n– การประกวดแต่งกายงามตามวัฒนธรรมไทย (ไม่จำกัดเพศและอายุ)\n– ร่วมโหวตตำแหน่งขวัญใจศิริราช \nดูเอกสารรายละเอียด กติกา และใบสมัครได้ที่ https://shorturl.asia/CfR6m \n– A ใบสมัครการประกวดประดิษฐ์กระทง +เกณฑ์การตัดสิน\n(มีเงินสนับสนุนให้30 หน่วยงานแรกที่สมัครเข้าร่วม หน่วยงานละ 2\,000 บาท)\n– B ใบสมัครการประกวดขบวนแห่ +เกณฑ์การตัดสิน\n(มีเงินสนับสนุนให้30 หน่วยงานแรกที่สมัครเข้าร่วม หน่วยงานละ 3\,000 บาท)\n– C ใบสมัครการประกวดแต่งกายงามตามวัฒนธรรม + เกณฑ์การตัดสิน\n(มีเงินสนับสนุนให้30 หน่วยงานแรกที่สมัครเข้าร่วม หน่วยงานละ 2\,000 บาท)\n– D ใบสมัครการประกวดนางนพมาศ +เกณฑ์การตัดสิน\n(มีเงินสนับสนุนให้30 หน่วยงานแรกที่สมัครเข้าร่วม หน่วยงานละ 2\,000 บาท) \nสอบถามรายละเอียดได้ที่ งานองค์กรสัมพันธ์และกิจการพิเศษ ตึกอำนวยการ ชั้น 1 โทร. 08 5539 5759\, 0 2419 6911\, 0 2419 6912 \, 0 2419 4891\, 0 2419 7653\, 0 2419 7655 และ 0 2419 9272 (ในวันและเวลาราชการ เวลา 09.00 – 16.00 น.) \n \n 
URL:https://www2.si.mahidol.ac.th/th/event/8031/
CATEGORIES:calendar,มีข่าวอยากบอก
ATTACH;FMTTYPE=image/jpeg:https://www2.si.mahidol.ac.th/th/wp-content/uploads/2024/10/11-15-67เชิญชวนประกวดลอยกระทงศิริราช-E.jpg
END:VEVENT
END:VCALENDAR