BEGIN:VCALENDAR
VERSION:2.0
PRODID:-//คณะแพทยศาสตร์ศิริราชพยาบาล มหาวิทยาลัยมหิดล - ECPv6.15.20//NONSGML v1.0//EN
CALSCALE:GREGORIAN
METHOD:PUBLISH
X-WR-CALNAME:คณะแพทยศาสตร์ศิริราชพยาบาล มหาวิทยาลัยมหิดล
X-ORIGINAL-URL:https://www2.si.mahidol.ac.th/th
X-WR-CALDESC:Events for คณะแพทยศาสตร์ศิริราชพยาบาล มหาวิทยาลัยมหิดล
REFRESH-INTERVAL;VALUE=DURATION:PT1H
X-Robots-Tag:noindex
X-PUBLISHED-TTL:PT1H
BEGIN:VTIMEZONE
TZID:Asia/Bangkok
BEGIN:STANDARD
TZOFFSETFROM:+0700
TZOFFSETTO:+0700
TZNAME:+07
DTSTART:20240101T000000
END:STANDARD
END:VTIMEZONE
BEGIN:VEVENT
DTSTART;TZID=Asia/Bangkok:20250318T080000
DTEND;TZID=Asia/Bangkok:20250318T170000
DTSTAMP:20260420T211802
CREATED:20250317T072212Z
LAST-MODIFIED:20250325T081737Z
UID:10007-1742284800-1742317200@www2.si.mahidol.ac.th
SUMMARY:ร่วมเสนอชื่อศิษย์เก่าเพื่อเข้ารับการพิจารณาเป็น "ศิษย์เก่าดีเด่นบัณฑิตศึกษา" ตั้งเเต่วันนี้ - 28 มีนาคม 2568
DESCRIPTION:ชมรมศิษย์เก่าสัมพันธ์บัณฑิตศึกษาศิริราช งานการศึกษาระดับหลังปริญญา  ขอเชิญร่วมเสนอชื่อศิษย์เก่าเพื่อเข้ารับการพิจารณาเป็น “ศิษย์เก่าดีเด่นบัณฑิตศึกษา” คณะแพทยศาสตร์ศิริราชพยาบาล ประจำปี 2567 \nร่วมเสนอชื่อศิษย์เก่า ฯ ได้ตั้งแต่วันนี้ – 28 มีนาคม 2568\nคลิกร่วมเสนอชื่อศิษย์เก่า ฯ >> https://forms.gle/yyoiJnXLkEjcMfrTA \nการพิจารณาเป็นผู้ได้รับรางวัล “ศิษย์เก่าดีเด่นบัณฑิตศึกษา” คณะแพทยศาสตร์ศิริราชพยาบาล เเบ่งเป็น 3 ด้าน ด้านละ 1 รางวัล ดังนี้\n1. รางวัลศิษย์เก่าดีเด่นด้านบริหาร\n2. รางวัลศิษย์เก่าดีเด่นด้านวิชาการ\n3. รางวัลศิษย์เก่าดีเด่นด้านบริการ \nสำหรับผู้ได้รับการคัดเลือกจะได้รับประกาศนียบัตรและโล่รางวัล ในงานคืนสู่เหย้าศิษย์เก่าบัณฑิตศึกษาศิริราช ครั้งที่ 2 ประจำปี 2567 \nสอบถามรายละเอียดโทร. 02 419 6405 \n \n 
URL:https://www2.si.mahidol.ac.th/th/event/10007/
CATEGORIES:calendar,มีข่าวอยากบอก
ATTACH;FMTTYPE=image/jpeg:https://www2.si.mahidol.ac.th/th/wp-content/uploads/2025/03/3-28-68เสนอชื่อศิษย์เก่าดีเด่นบัณฑิตศึกษาedited_2568-E.jpg
END:VEVENT
END:VCALENDAR