BEGIN:VCALENDAR
VERSION:2.0
PRODID:-//คณะแพทยศาสตร์ศิริราชพยาบาล มหาวิทยาลัยมหิดล - ECPv6.15.20//NONSGML v1.0//EN
CALSCALE:GREGORIAN
METHOD:PUBLISH
X-WR-CALNAME:คณะแพทยศาสตร์ศิริราชพยาบาล มหาวิทยาลัยมหิดล
X-ORIGINAL-URL:https://www2.si.mahidol.ac.th/th
X-WR-CALDESC:Events for คณะแพทยศาสตร์ศิริราชพยาบาล มหาวิทยาลัยมหิดล
REFRESH-INTERVAL;VALUE=DURATION:PT1H
X-Robots-Tag:noindex
X-PUBLISHED-TTL:PT1H
BEGIN:VTIMEZONE
TZID:Asia/Bangkok
BEGIN:STANDARD
TZOFFSETFROM:+0700
TZOFFSETTO:+0700
TZNAME:+07
DTSTART:20240101T000000
END:STANDARD
END:VTIMEZONE
BEGIN:VEVENT
DTSTART;TZID=Asia/Bangkok:20251015T080000
DTEND;TZID=Asia/Bangkok:20251016T163000
DTSTAMP:20260422T054432
CREATED:20250902T100700Z
LAST-MODIFIED:20251007T092542Z
UID:13296-1760515200-1760632200@www2.si.mahidol.ac.th
SUMMARY:การประชุมวิชาการ 108 ปี ศัลยศาสตร์ศิริราช “Norm and Future Surgery”
DESCRIPTION:ภาควิชาศัลยศาสตร์ขอเชิญเข้าร่วมการประชุมวิชาการ 108 ปี ศัลยศาสตร์ศิริราชในหัวข้อ “Norm and Future Surgery” ในวันที่ 15-16 ตุลาคม 2568 เวลา 8.00-16.30 น. ณ ห้อง15-16 ตุลาคม 2568 ณ ห้องประชุมราชปนัดดาสิรินธร อาคารศรีสวรินทิรา ชั้น G คณะแพทยศาสตร์ศิริราชพยาบาล \nคลิกลงทะเบียน \n  \n \n 
URL:https://www2.si.mahidol.ac.th/th/event/13296/
CATEGORIES:calendar,อบรม-สัมมนา-บรรยาย-ประชุม
ATTACH;FMTTYPE=image/jpeg:https://www2.si.mahidol.ac.th/th/wp-content/uploads/2025/09/10-15-68-108ปีE.jpg
END:VEVENT
BEGIN:VEVENT
DTSTART;TZID=Asia/Bangkok:20251017T130000
DTEND;TZID=Asia/Bangkok:20251017T160000
DTSTAMP:20260422T054432
CREATED:20250902T074336Z
LAST-MODIFIED:20251002T085820Z
UID:13263-1760706000-1760716800@www2.si.mahidol.ac.th
SUMMARY:การบรรยาย What’s new in AMEE 2025?
DESCRIPTION:งานแพทยศาสตรศึกษา ขอเชิญเข้าร่วมฟังบรรยาย What’s new in AMEE 2025? ในวันศุกร์ 17 ตุลาคม 2568 เวลา 13.00-16.10 น.ณ ห้องประชุม 202 อาคารศรีสวรินทิรา ชั้น 2 คณะแพทยศาสตร์ศิริราชพยาบาล และ Online ผ่านโปรแกรม ZOOM \nสอบถามรายละเอียดได้ที่ งานแพทยศาสตรศึกษา โทร. 02 419 6419 เเละ 02 419 6445 \nคลิกลงทะเบียน  \n 
URL:https://www2.si.mahidol.ac.th/th/event/13263/
CATEGORIES:calendar,อบรม-สัมมนา-บรรยาย-ประชุม
ATTACH;FMTTYPE=image/jpeg:https://www2.si.mahidol.ac.th/th/wp-content/uploads/2025/09/10-17-68AMEE2025-EE.jpg
END:VEVENT
BEGIN:VEVENT
DTSTART;TZID=Asia/Bangkok:20251020T083000
DTEND;TZID=Asia/Bangkok:20251020T160000
DTSTAMP:20260422T054432
CREATED:20250722T090422Z
LAST-MODIFIED:20251008T080657Z
UID:12383-1760949000-1760976000@www2.si.mahidol.ac.th
SUMMARY:“กิจกรรมลดลงสักนิด พิชิตโรค ครั้งที่ 13”
DESCRIPTION:ศูนย์เบาหวานศิริราช ร่วมกับ สาขาวิชาการบริบาลผู้ป่วยนอก ภาควิชาอายุรศาสตร์\, หน่วยพยาบาลด้านป้องกันโรคและส่งเสริมสุขภาพ งานการพยาบาลตรวจรักษาผู้ป่วยนอก ฝ่ายการพยาบาล\, สาขาเวชศาสตร์การกีฬา ภาควิชาศัลยศาสตร์ออโธปิดิคส์และกายภาพบำบัด ขอเชิญผู้ที่มีความเสี่ยงเบาหวาน ผู้เป็นเบาหวาน ญาติ และผู้ดูแลผู้เป็นเบาหวาน รวมถึงผู้ที่สนใจ เข้าร่วมอบรม “กิจกรรมลดลงสักนิด พิชิตโรค ครั้งที่ 13” ณ ศูนย์เบาหวานศิริราช อาคารหอพักพยาบาล 3 ชั้น 1 สอบถามรายละเอียดเพิ่มเติม ได้ที่ 02 419 9568 \n 
URL:https://www2.si.mahidol.ac.th/th/event/12383/
CATEGORIES:calendar,มีข่าวอยากบอก
ATTACH;FMTTYPE=image/jpeg:https://www2.si.mahidol.ac.th/th/wp-content/uploads/2025/07/10-20-68ลดพุ่งPrev_2568-EE.jpg
END:VEVENT
BEGIN:VEVENT
DTSTART;TZID=Asia/Bangkok:20251028T083000
DTEND;TZID=Asia/Bangkok:20251028T160000
DTSTAMP:20260422T054432
CREATED:20250908T081721Z
LAST-MODIFIED:20251111T032627Z
UID:13379-1761640200-1761667200@www2.si.mahidol.ac.th
SUMMARY:กิจกรรมอบรมเชิงปฏิบัติการ Cards & Conversation Moments
DESCRIPTION:งานสร้างเสริมศักยภาพและพัฒนาบุคลากร ฝ่ายทรัพยากรบุคคล ขอเชิญบุคลากนเข้าร่วมอบรมเชิงปฏิบัติการ Cards & Conversation Moments โดยจัดอบรม จำนวน 2 วัน ในวันที่ 28 ตุลาคม 2568 เเละ วันที่ 28 พฤศจิกายน 2568 ณ ห้องประชุม 101 ชั้น 1 อาคารศูนย์วิจัยการเเพทย์ศิริราช (SiMR) คณะแพทยศาสตร์ศิริราชพยาบาล ม.มหิดล \nวัตถุประสงค์ : เพื่อให้บุคลากรสามารถใช้การ์ดเป็นเครื่องมือเพื่อสะท้อนความคิด ความรู้สึก และพฤติกรรมของตนเอง สามารถเชื่อมโยงการเรียนรู้จากการ์ดไปสู่การปฏิบัติจริงในชีวิตประจำวัน ทั้งในชีวิตส่วนตัวและการทำงาน เป็นการเปิดประสบการณ์ใหม่ในการสื่อสารอย่างลึกซึ้ง \nสอบถามเพิ่มเติมได้ที่ งานสร้างเสริมศักยภาพและพัฒนาบุคลากร โทร. 9 4919\, 9 8607 \nลงทะเบียนได้ตั้งเเต่วันนี้ – 15 ตุลาคม 2568 \nคลิกลงทะเบียน  (อ่านรายละเอียดโครงการเพิ่มเติมได้ที่ลิงก์แบบฟอร์มลงทะเบียน) \n \n 
URL:https://www2.si.mahidol.ac.th/th/event/13379/
CATEGORIES:calendar,อบรม-สัมมนา-บรรยาย-ประชุม
ATTACH;FMTTYPE=image/jpeg:https://www2.si.mahidol.ac.th/th/wp-content/uploads/2025/09/10-28-68Cards_2568-EE.jpg
END:VEVENT
BEGIN:VEVENT
DTSTART;TZID=Asia/Bangkok:20251029T083000
DTEND;TZID=Asia/Bangkok:20251029T140000
DTSTAMP:20260422T054432
CREATED:20250905T090835Z
LAST-MODIFIED:20251002T091940Z
UID:13280-1761726600-1761746400@www2.si.mahidol.ac.th
SUMMARY:การอบรมความรู้ความเข้าใจด้านจริยธรรมการวิจัยในคนหลักสูตรทบทวน ประจำปี 2568
DESCRIPTION:หน่วยจริยธรรมการวิจัยในคน ขอเชิญบุคลากรศิริราชเข้าร่วมอบรม ความรู้ความเข้าใจด้านจริยธรรมการวิจัยในคนหลักสูตรทบทวน (Refresher Course) ประจำปี 2568 ครั้งที่ 2 ขึ้นในวันที่ 29 ตุลาคม 2568 เวลา 08.30-14.00 น. ณ อาคารเฉลิมพระเกียรติ ๘๐ พรรษา ๕ ธันวาคม ๒๕๕๐ (SiMR) ชั้น 3 ห้องประชุม 301-304 คณะแพทยศาสตร์ศิริราชพยาบาล ม.มหิดล \nคลิกสมัครเข้าอบรม \n 
URL:https://www2.si.mahidol.ac.th/th/event/13280/
CATEGORIES:calendar,อบรม-สัมมนา-บรรยาย-ประชุม
ATTACH;FMTTYPE=image/jpeg:https://www2.si.mahidol.ac.th/th/wp-content/uploads/2025/10/10-29-68RF2_EE.jpg
END:VEVENT
BEGIN:VEVENT
DTSTART;TZID=Asia/Bangkok:20251030T100000
DTEND;TZID=Asia/Bangkok:20251030T110000
DTSTAMP:20260422T054432
CREATED:20250921T074511Z
LAST-MODIFIED:20251021T082128Z
UID:13583-1761818400-1761822000@www2.si.mahidol.ac.th
SUMMARY:กิจกรรม "โครงการทำบุญวันเกิดประจำเดือนตุลาคมของบุคลากร"
DESCRIPTION:งานคุณธรรมและจริยธรรม ขอเชิญบุคลากรร่วมพิธีเจริญพระพุทธมนต์และถวายสังฆทานเนื่องใน “โครงการทำบุญวันเกิดประจำเดือนของบุคลากรคณะแพทยศาสตร์ศิริราชพยาบาล” โดยจะจัดทำกิจกรรมในรูปแบบของการจัดให้มีการถวายสังฆทาน โดยให้ผู้ที่มีวันเกิดในแต่ละเดือนมาร่วมพิธี เพื่อเป็นโอกาสในการทำนุบำรุงพระพุทธศาสนาและเป็นการตั้งมั่นในกุศลกรรมกระทำความดี \nสำหรับเดือนตุลาคม จัดขึ้นในวันที่ 30 ตุลาคม 2568 เเละ เดือนพฤศจิกายน 2568 จัดขึ้นในวันที่ 27 พฤศจิกายน 2568 เวลา 10.00 – 10.50 น. ณ ห้องสันติภูมิ อาคารชัยนาทนเรนทรานุสรณ์ (ตึกผู้ป่วยนอกเก่า) ชั้น 1 โรงพยาบาลศิรริาช
URL:https://www2.si.mahidol.ac.th/th/event/13583/
CATEGORIES:calendar,มีข่าวอยากบอก
END:VEVENT
BEGIN:VEVENT
DTSTART;TZID=Asia/Bangkok:20251031T080000
DTEND;TZID=Asia/Bangkok:20251031T143000
DTSTAMP:20260422T054432
CREATED:20250929T081622Z
LAST-MODIFIED:20251021T072447Z
UID:11299-1761897600-1761921000@www2.si.mahidol.ac.th
SUMMARY:ขอเชิญร่วมทำบุญตามกำลังศรัทธาเพื่อสมทบโดยถวายเป็นพระราชกุศลในการถวายผ้าพระกฐินพระราชทานประจำปี ๒๕๖๘
DESCRIPTION:พระบาทสมเด็จพระเจ้าอยู่หัว ทรงพระกรุณาโปรดเกล้าโปรดกระหม่อมพระราชทานผ้าพระกฐิน ประจำปี ๒๕๖๘ ให้คณะแพทยศาสตร์ศิริราชพยาบาล คณะพยาบาลศาสตร์ คณะเทคนิคการแพทย์ และคณะกายภาพบำบัด มหาวิทยาลัยมหิดล นำไปถวายพระสงฆ์จำพรรษา ณ วัดกาญจนสิงหาสน์วรวิหาร แขวงคลองชักพระ เขตตลิ่งชัน กรุงเทพมหานคร ในวันศุกร์ที่ ๓๑ ตุลาคม ๒๕๖๘ เวลา ๑๔.๐๐ น. \nคณะแพทยศาสตร์ศิริราชพยาบาล ม.มหิดล ขอเชิญชวนพุทธศาสนิกชนและบุคลากรในสังกัดร่วมทำบุญตามกำลังศรัทธาเพื่อสมทบโดยถวายเป็นพระราชกุศลในการถวายผ้าพระกฐินพระราชทานประจำปี ๒๕๖๘ \nผ่านช่องทางดังนี้ \n1. เงินสด นำส่งได้ที่ฝ่ายการคลัง ตึกชัยนาทนเรนทรานุสรณ์ ชั้น ๒ คณะแพทยศาสตร์ศิริราชพยาบาล \n2. เช็คธนาคาร สั่งจ่าย “วัดกาญจนสิงหาสน์วรวิหาร” \n3. โอนเงินเข้าบัญชีประเภทกระแสรายวัน ชื่อบัญชี “กฐินพระราชทานคณะแพทยศาสตร์ศิริราชพยาบาลประจำปี ๒๕๖๘ ธนาคารไทยพาณิชย์ จำกัด (มหาชน) สาขาศิริราช เลขที่บัญชี ๐๑๖-๓-๐๔๖๘๒-๒ \n**สำหรับท่านที่ร่วมบริจาคเงิน ๑๐๐ บาทขึ้นไป ทางคณะ ฯ จะดำเนินการออกใบอนุโมทนาบัตรให้** \nทั้งนี้ ขอความกรุณาส่งหลักฐานแบบฟอร์มร่วมอนุโมทนาบุญและสำเนาใบโอนเงิน ผ่านทาง E-mail : sifin@mahidol.ac.th เพื่อจะได้จัดส่งใบอนุโมทนาบัตรให้ท่านต่อไป โดยคณะฯ จะขอปิดรับการบริจาค ในวันที่ ๗ พฤศจิกายน ๒๕๖๘ และจะดำเนินการออกใบอนุโมทนาบัตรสิ้นสุดวันที่ ๑๔ พฤศจิกายน ๒๕๖๘ หากเกินกำหนดคณะ ฯ จะไม่สามารถดำเนินการออกใบอนุโมทนาบัตร สอบถามรายละเอียดเพิ่มเติมได้ที่ งานการเงิน ฝ่ายการคลัง โทร. ๐๒ ๔๑๔ ๑๗๖๘ \,๐๒ ๔๑๔ ๑๗๘๕
URL:https://www2.si.mahidol.ac.th/th/event/11299/
CATEGORIES:calendar,มีข่าวอยากบอก
ATTACH;FMTTYPE=image/jpeg:https://www2.si.mahidol.ac.th/th/wp-content/uploads/2024/06/10-31-68ทำบุญกฐิน-E.jpg
END:VEVENT
END:VCALENDAR