BEGIN:VCALENDAR
VERSION:2.0
PRODID:-//คณะแพทยศาสตร์ศิริราชพยาบาล มหาวิทยาลัยมหิดล - ECPv6.15.20//NONSGML v1.0//EN
CALSCALE:GREGORIAN
METHOD:PUBLISH
X-WR-CALNAME:คณะแพทยศาสตร์ศิริราชพยาบาล มหาวิทยาลัยมหิดล
X-ORIGINAL-URL:https://www2.si.mahidol.ac.th/th
X-WR-CALDESC:Events for คณะแพทยศาสตร์ศิริราชพยาบาล มหาวิทยาลัยมหิดล
REFRESH-INTERVAL;VALUE=DURATION:PT1H
X-Robots-Tag:noindex
X-PUBLISHED-TTL:PT1H
BEGIN:VTIMEZONE
TZID:Asia/Bangkok
BEGIN:STANDARD
TZOFFSETFROM:+0700
TZOFFSETTO:+0700
TZNAME:+07
DTSTART:20230101T000000
END:STANDARD
END:VTIMEZONE
BEGIN:VEVENT
DTSTART;TZID=Asia/Bangkok:20241202T080000
DTEND;TZID=Asia/Bangkok:20241216T170000
DTSTAMP:20260421T074120
CREATED:20241020T022611Z
LAST-MODIFIED:20241120T025450Z
UID:8534-1733126400-1734368400@www2.si.mahidol.ac.th
SUMMARY:เชิญชวนประชาชนที่สนใจเข้าร่วมกิจกรรมวันดินโลก ระหว่างวันที่ 2 - 16 ธันวาคม 2567
DESCRIPTION:หน่วยพิพิธภัณฑ์ศิริราช ขอเชิญชวนประชาชนที่สนใจเข้าร่วมกิจกรรมวันดินโลก ระหว่างวันที่ 2 – 16ธันวาคม 2567 ณ โถงต้อนรับ พิพิธภัณฑ์ศิริราชพิมุขสถาน ในหัวข้อ “ใส่ใจมาตรฐาน ตรวจวัดจัดการ ดินดียั่งยืน” ซึ่งจะสอดคล้องกับการจัดกิจกรรมเนื่องในวันดินโลก ของกรมพัฒนาที่ดิน \nกิจกรรมภายในงาน \n– วันที่ 2 ธันวาคม 2567 บรรยายพิเศษ ในหัวข้อ “ใส่ใจมาตรฐาน ตรวจวัดจัดการ ดินดียั่งยืน” เวลา 09.00 – 12.00 น. ณ ห้องคมนาคมบรรหาร พิพิธภัณฑ์ศิริราชพุิมขสถาน \n– ระหว่างวันที่ 2 – 16 ธันวาคม 2567 (ยกเว้นวันอังคาร ) เชิมชมการจัดแสดงนิทรรศการ ในหัวข้อ “ใส่ใจมาตรฐาน ตรวจวัดจัดการ ดินดียั่งยืน” ซึ่งจะสอดคล้องกับกิจกรรมเนื่องในวันดินโลก ของกรมพัฒนาที่ดิน ตั้งแต่เวลา 10.00 – 17.00 น. ณ โถงต้อนรับพิพิธภัณฑ์ศิริราชพิมุขสถาน \nผู้สนใจสามารถลงทะเบียนผ่านการสแกน QR CODE หรือ https://forms.gle/qnxsS2utQttSQm4r9\nรับจำนวนจำกัด 30 ท่านเท่านั้น\nลงทะเบียนตั้งแต่วันนี้ – 29 พฤศจิกายน 2567 หรือจนกว่าจะครบจำนวน (เมื่อลงทะเบียนสำเร็จ จะมีเจ้าหน้าที่ติดต่อเพื่อยืนยันการเข้าร่วมกิจกรรมก่อนวันงาน)\nสามารถติดต่อสอบถามรายละเอียดเพิ่มเติม โทร. 02 414 1457
URL:https://www2.si.mahidol.ac.th/th/event/8534/
CATEGORIES:calendar,มีข่าวอยากบอก
END:VEVENT
END:VCALENDAR