BEGIN:VCALENDAR
VERSION:2.0
PRODID:-//คณะแพทยศาสตร์ศิริราชพยาบาล มหาวิทยาลัยมหิดล - ECPv6.15.20//NONSGML v1.0//EN
CALSCALE:GREGORIAN
METHOD:PUBLISH
X-WR-CALNAME:คณะแพทยศาสตร์ศิริราชพยาบาล มหาวิทยาลัยมหิดล
X-ORIGINAL-URL:https://www2.si.mahidol.ac.th/th
X-WR-CALDESC:Events for คณะแพทยศาสตร์ศิริราชพยาบาล มหาวิทยาลัยมหิดล
REFRESH-INTERVAL;VALUE=DURATION:PT1H
X-Robots-Tag:noindex
X-PUBLISHED-TTL:PT1H
BEGIN:VTIMEZONE
TZID:Asia/Bangkok
BEGIN:STANDARD
TZOFFSETFROM:+0700
TZOFFSETTO:+0700
TZNAME:+07
DTSTART:20240101T000000
END:STANDARD
END:VTIMEZONE
BEGIN:VEVENT
DTSTART;TZID=Asia/Bangkok:20250801T130000
DTEND;TZID=Asia/Bangkok:20250801T150000
DTSTAMP:20260423T092246
CREATED:20250709T090802Z
LAST-MODIFIED:20250725T092737Z
UID:12023-1754053200-1754060400@www2.si.mahidol.ac.th
SUMMARY:งานประชุมวิชาการ "world Alopecia Day"  วันผมร่วงโลก 2025
DESCRIPTION:สาขาโรคเส้นผมและการผ่าตัดปลูกถ่ายเส้นผม ภาควิชาตจวิทยา ขอเชิญผู้สนใจเข้าร่วมงานประชุมวิชาการ “world Alopecia Day” วันผมร่วงโลก 2025 ในวันศุกร์ที่ 1 สิงหาคม 2568 เวลา 13.00-15.00 น. ณ ศาลาศิริราช ๑๐๐ ปี โรงพยาบาลศิริราช \nรับชมผ่าน Facebook Live ได้ที่ Facebook Page : SirirajDerm\n 
URL:https://www2.si.mahidol.ac.th/th/event/12023/
CATEGORIES:calendar,อบรม-สัมมนา-บรรยาย-ประชุม
ATTACH;FMTTYPE=image/jpeg:https://www2.si.mahidol.ac.th/th/wp-content/uploads/2025/07/8-1-68AlopeciaDay_2568-E.jpg
END:VEVENT
BEGIN:VEVENT
DTSTART;TZID=Asia/Bangkok:20250804T080000
DTEND;TZID=Asia/Bangkok:20250816T170000
DTSTAMP:20260423T092246
CREATED:20250728T040004Z
LAST-MODIFIED:20250806T032706Z
UID:12113-1754294400-1755363600@www2.si.mahidol.ac.th
SUMMARY:นิทรรศการภาพวาด “สรรค์ศิลป์ศิริราชเทิดพระเกียรติสมเด็จพระนางเจ้าสิริกิติ์ พระบรมราชินีนาถ พระบรมราชชนนีพันปีหลวง”
DESCRIPTION:ชมรมสรรค์ศิลป์ศิริราช งานสร้างเสริมสุขภาพ ร่วมกับ งานคุณธรรมและจริยธรรม ขอเชิญชวนผู้สนใจ เข้าร่วมชมนิทรรศการภาพวาด “สรรค์ศิลป์ศิริราชเทิดพระเกียรติสมเด็จพระนางเจ้าสิริกิติ์ พระบรมราชินีนาถ พระบรมราชชนนีพันปีหลวง” โดยกลุ่มศิลปินที่มีชื่อเสียง สมาชิกชมรมฯ และศิลปินจิตอาสา โดยนำเงินรายได้ในการจัดจำหน่ายภาพวาดในครั้งนี้สมทบทุนในการสร้าง“ห้องผ่าตัดศิริราช ณ อาคารสยามินทร์ โรงพยาบาลศิริราช” กิจกรรมการจัดเเสดงนิทรรศการจัดขึ้นระหว่างวันที่ 3 – 16 สิงหาคม 2568 ณ บริเวณโถงประชาสัมพันธ์ ชั้น 2 โรงพยาบาลศิริราชปิยมหาราชการุณย์ \nติดตามข่าวสารเเละสอบถามเพิ่มเติมได้ที่เพจ Facebook “ชมรมสรรค์ศิลป์ศิริราช” \n \n  \n 
URL:https://www2.si.mahidol.ac.th/th/event/12113/
CATEGORIES:calendar,มีข่าวอยากบอก
ATTACH;FMTTYPE=image/jpeg:https://www2.si.mahidol.ac.th/th/wp-content/uploads/2024/08/8-3-17-68ชมรมสรรศิลป์-EE.jpg
END:VEVENT
BEGIN:VEVENT
DTSTART;TZID=Asia/Bangkok:20250804T130000
DTEND;TZID=Asia/Bangkok:20250804T160000
DTSTAMP:20260423T092246
CREATED:20250710T070105Z
LAST-MODIFIED:20250725T085417Z
UID:11449-1754312400-1754323200@www2.si.mahidol.ac.th
SUMMARY:เชิญชวนร่วมโครงการอบรมความปลอดภัยในการทำงานสำนักงาน “ออฟฟิศ...พิชิตปวด”
DESCRIPTION:งานอาชีวอนามัย โรงพยาบาลศิริราช ขอเชิญบุคลากรคณะแพทยศาสตร์ศิริราชพยาบาลที่ปฏิบัติงานสำนักงานและผู้ที่สนใจ เข้าร่วมโครงการอบรมความปลอดภัยในการทำงานสำนักงาน “ออฟฟิศ…พิชิตปวด” ในวันจันทร์ที่ 4 สิงหาคม 2568 เวลา 13.00-16.00 น. ณ ห้องประชุมราชปนัดดาสิรินธร อาคารศรีสวรินทิรา ชั้น G โรงพยาบาลศิริราช  >>คลิกลงทะเบียน<<   \n  \n \n  \n \n 
URL:https://www2.si.mahidol.ac.th/th/event/11449/
CATEGORIES:calendar,อบรม-สัมมนา-บรรยาย-ประชุม
ATTACH;FMTTYPE=image/jpeg:https://www2.si.mahidol.ac.th/th/wp-content/uploads/2025/07/8-4-68ออฟฟิศพิชิตปวด-EE.jpg
END:VEVENT
BEGIN:VEVENT
DTSTART;TZID=Asia/Bangkok:20250807T070000
DTEND;TZID=Asia/Bangkok:20250807T080000
DTSTAMP:20260423T092246
CREATED:20240805T085441Z
LAST-MODIFIED:20250807T094819Z
UID:12125-1754550000-1754553600@www2.si.mahidol.ac.th
SUMMARY:กิจกรรมเฉลิมพระเกียรติเนื่องในโอกาสวันเฉลิมพระชนมพรรษา สมเด็จพระนางเจ้าสิริกิติ์ พระบรมราชินีนาถ พระบรมราชชนนีพันปีหลวง
DESCRIPTION:คณะแพทยศาสตร์ศิริราชพยาบาล ขอเชิญร่วมกิจกรรมเฉลิมพระเกียรติเนื่องในโอกาสวันเฉลิมพระชนมพรรษา สมเด็จพระนางเจ้าสิริกิติ์ พระบรมราชินีนาถ พระบรมราชชนนีพันปีหลวง 12 สิงหาคม 2568 เพื่อแสดงความจงรักภักดีและสำนึกในพระมหากรุณาธิคุณ คณะแพทยศาสตร์ศิริราชพยาบาล ในวันพฤหัสบดีที่ 7 สิงหาคม 2568 เวลา 07.00 น. ณ บริเวณลานพระราชานุสาวรีย์สมเด็จพระมหิตลาธิเบศร อดุลยเดชวิกรม พระบรมราชชนก โรงพยาบาลศิริราช \n \n 
URL:https://www2.si.mahidol.ac.th/th/event/12125/
CATEGORIES:calendar,มีข่าวอยากบอก
ATTACH;FMTTYPE=image/jpeg:https://www2.si.mahidol.ac.th/th/wp-content/uploads/2024/08/8-7-68ตักบาตรพระพันปี-68-EE.jpg
END:VEVENT
BEGIN:VEVENT
DTSTART;TZID=Asia/Bangkok:20250813T133000
DTEND;TZID=Asia/Bangkok:20250813T163000
DTSTAMP:20260423T092246
CREATED:20250801T083130Z
LAST-MODIFIED:20250804T082925Z
UID:11961-1755091800-1755102600@www2.si.mahidol.ac.th
SUMMARY:การบรรยาย "ศิษย์เก่าเล่าความ" หัวข้อ จากอาจารย์แพทย์สู่นายกแพทยสภา จากวิชาการสู่งานบริหาร
DESCRIPTION:สมาคมศิษย์เก่าแพทย์ศิริราช ในพระบรมราชูปถัมภ์ และงานกิจการนักศึกษา คณะแพทยศาสตร์ศิริราชพยาบาล ขอเรียนเชิญนักศึกษาแพทย์ คณาจารย์ผู้บริหาร และศิษย์เก่าแพทย์ศิริราช ขอเชิญร่วมฟังบรรยาย “ศิษย์เก่าเล่าความ หัวข้อ จากอาจารย์แพทย์สู่นายกแพทยสภา จากวิชาการสู่งานบริหาร” บรรยายโดย ศ.เกียรติคุณ พญ. สมศรี เผ่าสวัสดิ์ นายกแพทยสภา ในวันที่ 13 สิงหาคม 2568 เวลา 13.30 น. ณ ห้องบรรยาย อวย เกตุสิงห์ ชั้น 3 อาคารศรีสวรินทิรา โรงพยาบาลศิริราช \n**ท่านสามารถ Walk in เข้าร่วมงานหรือ **คลิกลงทะเบียน** \n 
URL:https://www2.si.mahidol.ac.th/th/event/11961/
CATEGORIES:calendar,มีข่าวอยากบอก
ATTACH;FMTTYPE=image/jpeg:https://www2.si.mahidol.ac.th/th/wp-content/uploads/2024/07/8-13-68ศิษย์เก่าเล่าความ2568-EE.jpg
END:VEVENT
BEGIN:VEVENT
DTSTART;TZID=Asia/Bangkok:20250820T083000
DTEND;TZID=Asia/Bangkok:20250822T160000
DTSTAMP:20260423T092246
CREATED:20250808T065103Z
LAST-MODIFIED:20250808T073134Z
UID:12151-1755678600-1755878400@www2.si.mahidol.ac.th
SUMMARY:การจัดเเสดงนิทรรศการแสดงผลงานนวัตกรรมด้านเวชนิทัศน์
DESCRIPTION:สถานเทคโนโลยีการศึกษาแพทยศาสตร์ ขอเชิญชวนเข้าร่วมชมการจัดเเสดงนิทรรศการแสดงผลงานนวัตกรรมด้านเวชนิทัศน์ (สถานเทเทคโนโลยีการศึกษาแพทยศาสตร์) ระหว่างวันที่ 20-22 สิงหาคม 2568 ณ บริเวณศาลาศิริราช ๑๐๐ ปี และโถงอาคาร ๑๐๐ ปี สมเด็จพระศรีนครินทร์ โรงพยาบาลศิริราช \nวัตถุประสงค์เพื่อเฉลิมฉลองเนื่องในโอกาสครบ 59 ปี ของการก่อตั้งโรงเรียนเวชนิทัศน์ แสดงความก้าวหน้าและแลกเปลี่ยนความรู้ทางด้านสื่อนวัตกรรมและเทคโนโลยีการศึกษาทางการแพทย์ และเผยแพร่ผลงานด้านเวชนิทัศน์ประเภทต่างๆ และกิจกรรมบำเพ็ญประโยชน์เพื่อส่วนรวม \n \n  \n \n  \n 
URL:https://www2.si.mahidol.ac.th/th/event/12151/
CATEGORIES:calendar,มีข่าวอยากบอก
ATTACH;FMTTYPE=image/jpeg:https://www2.si.mahidol.ac.th/th/wp-content/uploads/2024/08/8-20-68ProDuck-EE.jpg
END:VEVENT
BEGIN:VEVENT
DTSTART;TZID=Asia/Bangkok:20250821T090000
DTEND;TZID=Asia/Bangkok:20250822T160000
DTSTAMP:20260423T092246
CREATED:20250810T070441Z
LAST-MODIFIED:20250815T065100Z
UID:10624-1755766800-1755878400@www2.si.mahidol.ac.th
SUMMARY:งานประชุมวิชาการ แพทย์แผนไทยประยุกต์ศิริราช 2568 ระหว่างวันที่ 21 - 22 ส.ค. 68
DESCRIPTION:สถานการแพทย์แผนไทยประยุกต์ ขอเชิญแพทย์แผนไทย แพทย์แผนไทยประยุกต์ และบุคลากรทางการแพทย์ หรือผู้ที่สนใจเข้าร่วมงานประชุมวิชาการ แพทย์แผนไทยประยุกต์ศิริราช 2568 Siriraj Applied Thai Traditional Medicine Conference (Si-ATM) 2025 ในหัวข้อ “การแพทย์แผนไทยกับงานวิจัยและนวัตกรรมสู่ความยั่งยืน” ระหว่างวันที่ 21 – 22 สิงหาคม  2568 เวลา 09:00 – 16:00 น. ในรูปแบบ onsite ณ ห้องประชุมราชปนัดดาสิรินธร อาคารศรีสวรินทิรา โรงพยาบาลศิริราช และ Online ผ่าน Zoom Webinar \nเปิดลงทะเบียน ตั้งแต่วันนี้ – 16 สิงหาคม 2568 ผ่านเว็บไซต์ Siriraj Conference โดยไม่เสียค่าลงทะเบียน และสามารถ เข้าร่วมประชุมวิชาการฯ ได้โดยไม่ถือเป็นวันลา เมื่อได้รับอนุมัติจากผู้บังคับบัญชา \nลงทะเบียนได้ที่  https://www2.si.mahidol.ac.th/sirirajconference/event/sm/content/3397/TH/33277  \nสอบถามข้อมูลเพิ่มเติมได้ที่ อีเมล sithaimed.con2025@gmail.com หรือ พท.ป.จิรภัทร์ กิมศิริ เบอร์โทรศัพท์ 0826911308 (ในวันและเวลาทำการ) \n 
URL:https://www2.si.mahidol.ac.th/th/event/10624/
CATEGORIES:calendar,อบรม-สัมมนา-บรรยาย-ประชุม
ATTACH;FMTTYPE=image/jpeg:https://www2.si.mahidol.ac.th/th/wp-content/uploads/2024/04/8-21-68SiATM2025-EE.jpg
END:VEVENT
BEGIN:VEVENT
DTSTART;TZID=Asia/Bangkok:20250828T080000
DTEND;TZID=Asia/Bangkok:20250829T163000
DTSTAMP:20260423T092246
CREATED:20250810T081552Z
LAST-MODIFIED:20250829T071336Z
UID:11023-1756368000-1756485000@www2.si.mahidol.ac.th
SUMMARY:ประชุมวิชาการ First hour in Emergency Room 2025:The Art of resuscitation
DESCRIPTION:ภาควิชาเวชศาสตร์ฉุกเฉิน ขอเชิญแพทย์และบุคลากรทางเวชศาสตร์ฉุกเฉิน เข้าร่วมประชุมวิชาการ First hour in Emergency Room 2025:The Art of resuscitation ระหว่างวันที่ 28 – 29 สิงหาคม 2568 ณ True ICON Hall (Meeting Room 1 – 3) ศูนย์การค้า ICON SIAM ชั้น 7
URL:https://www2.si.mahidol.ac.th/th/event/%e0%b8%9b%e0%b8%a3%e0%b8%b0%e0%b8%8a%e0%b8%b8%e0%b8%a1%e0%b8%a7%e0%b8%b4%e0%b8%8a%e0%b8%b2%e0%b8%81%e0%b8%b2%e0%b8%a3-first-hour-in-emergency-room-2025the-art-of-resuscitation/
CATEGORIES:calendar,มีข่าวอยากบอก
ATTACH;FMTTYPE=image/jpeg:https://www2.si.mahidol.ac.th/th/wp-content/uploads/2024/05/8-28-68-FirstHour_2025-EE.jpg
END:VEVENT
END:VCALENDAR