BEGIN:VCALENDAR
VERSION:2.0
PRODID:-//คณะแพทยศาสตร์ศิริราชพยาบาล มหาวิทยาลัยมหิดล - ECPv6.15.20//NONSGML v1.0//EN
CALSCALE:GREGORIAN
METHOD:PUBLISH
X-WR-CALNAME:คณะแพทยศาสตร์ศิริราชพยาบาล มหาวิทยาลัยมหิดล
X-ORIGINAL-URL:https://www2.si.mahidol.ac.th/th
X-WR-CALDESC:Events for คณะแพทยศาสตร์ศิริราชพยาบาล มหาวิทยาลัยมหิดล
REFRESH-INTERVAL;VALUE=DURATION:PT1H
X-Robots-Tag:noindex
X-PUBLISHED-TTL:PT1H
BEGIN:VTIMEZONE
TZID:Asia/Bangkok
BEGIN:STANDARD
TZOFFSETFROM:+0700
TZOFFSETTO:+0700
TZNAME:+07
DTSTART:20240101T000000
END:STANDARD
END:VTIMEZONE
BEGIN:VEVENT
DTSTART;TZID=Asia/Bangkok:20251203T080000
DTEND;TZID=Asia/Bangkok:20251231T163000
DTSTAMP:20260422T040656
CREATED:20251103T040637Z
LAST-MODIFIED:20251204T080233Z
UID:14347-1764748800-1767198600@www2.si.mahidol.ac.th
SUMMARY:ขอเชิญร่วมตอบแบบสำรวจความคิดเห็นต่อการให้บริการของงานพัฒนาคุณภาพ
DESCRIPTION:งานพัฒนาคุณภาพ ขอเชิญบุคลากร/หน่วยงานภายในคณะ ฯ ร่วมตอบแบบสำรวจความคิดเห็นต่อการให้บริการของงานพัฒนาคุณภาพ คณะแพทยศาสตร์ศิริราชพยาบาล ประจำปี พ.ศ. 2568 ตั้งเเต่วันที่ 1 – 31 ธันวาคม 2568 สำหรับใช้เป็นข้อมูลในการปรับปรุง/พัฒนาการบริหารงาน เพื่อการดำเนินงานที่เป็นเลิศ \nคลิกตอบเเบบสำรวจ \n  \n 
URL:https://www2.si.mahidol.ac.th/th/event/14347/
CATEGORIES:calendar,มีข่าวอยากบอก
ATTACH;FMTTYPE=image/jpeg:https://www2.si.mahidol.ac.th/th/wp-content/uploads/2025/11/12-1-68แบบสอบถาม2568-EE-1.jpg
END:VEVENT
BEGIN:VEVENT
DTSTART;TZID=Asia/Bangkok:20251213T093000
DTEND;TZID=Asia/Bangkok:20251213T110000
DTSTAMP:20260422T040656
CREATED:20251201T031110Z
LAST-MODIFIED:20251202T063227Z
UID:13940-1765618200-1765623600@www2.si.mahidol.ac.th
SUMMARY:งานศิษย์เก่าสัมพันธ์ บัณฑิตศึกษาศิริราช
DESCRIPTION:ชมรมศิษย์เก่าสัมพันธ์บัณฑิตศึกษาศิริราช ร่วมกับ งานการศึกษาระดับหลังปริญญา คณะแพทยศาสตร์ศิริราชพยาบาล ม.มหิดล ขอเชิญศิษย์เก่าระดับปริญญาโท-เอก ศิษย์ปัจจุบัน คณาจารย์ หรือผู้ที่สนใจเข้าร่วมงาน โครงการศิษย์เก่าสัมพันธ์ บัณฑิตศึกษาศิริราช ในเสาร์วันที่ 13 ธันวาคม พ.ศ.2568 เวลา 09.00-13.00น. ณ ห้องประชุมสิรินธร อาคารเฉลิมพระเกียรติ ชั้น G คณะแพทยศาสตร์ศิริราชพยาบาล \nวัตถุประสงค์เพื่อสร้างความสัมพันธ์อันดีระหว่างศิษย์เก่ากับศิษย์ปัจจุบัน รวมทั้งการยกย่องเกียรติคุณของศิษย์เก่าดีเด่นที่สร้างชื่อเสียงอันดีงามในระดับชาติและนานาชาติ รวมถึงมีการอบรมเพื่อ Upskill ให้แก่ศิษย์เก่า โดยคาดว่าจะมีผู้เข้าร่วมโครงการทั้งสิ้น 50 ราย \nเปิดให้ลงทะเบียน Online ตั้งแต่วันนี้ – 30 พฤศจิกายน 2568 \nคลิกลงทะเบียน  \n 
URL:https://www2.si.mahidol.ac.th/th/event/13940/
CATEGORIES:calendar,อบรม-สัมมนา-บรรยาย-ประชุม
ATTACH;FMTTYPE=image/jpeg:https://www2.si.mahidol.ac.th/th/wp-content/uploads/2024/11/12-13-68ศิษย์เก่าสัมพันธ์-EE.jpg
END:VEVENT
BEGIN:VEVENT
DTSTART;TZID=Asia/Bangkok:20251218T130000
DTEND;TZID=Asia/Bangkok:20251218T160000
DTSTAMP:20260422T040656
CREATED:20251207T025925Z
LAST-MODIFIED:20251215T043225Z
UID:14060-1766062800-1766073600@www2.si.mahidol.ac.th
SUMMARY:งานคณบดี ผู้บริหารพบประชาคมศิริราช
DESCRIPTION:ฝ่ายทรัพยากรบุคคล จัดงานคณบดี ผู้บริหารพบประชาคมศิริราช เพื่อแถลงผลการดำเนินงานในรอบปีที่ผ่านมา รวมถึงตอบข้อซักถามจากประชาคมศิริราช และกิจกรรมมอบของขวัญปีใหม่แก่กลุ่มผู้แทนบุคลากร  ในวันที่ 18 ธันวาคม  2568 เวลา 13.30 – 15.30 น. (ลงทะเบียน 13.00 – 13.30 น.)  ณ ห้องประชุมราชปนัดดาสิรินธร อาคารศรีสวรินทิรา ชั้น G โรงพยาบาลศิริราช \n \n  \n 
URL:https://www2.si.mahidol.ac.th/th/event/14060/
CATEGORIES:calendar,มีข่าวอยากบอก
ATTACH;FMTTYPE=image/jpeg:https://www2.si.mahidol.ac.th/th/wp-content/uploads/2025/10/12-18-68พบประชาคม-EE.jpg
END:VEVENT
END:VCALENDAR