BEGIN:VCALENDAR
VERSION:2.0
PRODID:-//คณะแพทยศาสตร์ศิริราชพยาบาล มหาวิทยาลัยมหิดล - ECPv6.15.20//NONSGML v1.0//EN
CALSCALE:GREGORIAN
METHOD:PUBLISH
X-WR-CALNAME:คณะแพทยศาสตร์ศิริราชพยาบาล มหาวิทยาลัยมหิดล
X-ORIGINAL-URL:https://www2.si.mahidol.ac.th/th
X-WR-CALDESC:Events for คณะแพทยศาสตร์ศิริราชพยาบาล มหาวิทยาลัยมหิดล
REFRESH-INTERVAL;VALUE=DURATION:PT1H
X-Robots-Tag:noindex
X-PUBLISHED-TTL:PT1H
BEGIN:VTIMEZONE
TZID:Asia/Bangkok
BEGIN:STANDARD
TZOFFSETFROM:+0700
TZOFFSETTO:+0700
TZNAME:+07
DTSTART:20240101T000000
END:STANDARD
END:VTIMEZONE
BEGIN:VEVENT
DTSTART;TZID=Asia/Bangkok:20250409T090000
DTEND;TZID=Asia/Bangkok:20250409T150000
DTSTAMP:20260423T001954
CREATED:20250319T074316Z
LAST-MODIFIED:20250327T070851Z
UID:10155-1744189200-1744210800@www2.si.mahidol.ac.th
SUMMARY:ขอเชิญร่วมปฏิบัติธรรม เจริญสติด้วยการเดินจงกรมและนั่งสมาธิ  ในโครงการ "ศิริราชปฏิบัติบูชา ถวายแด่พระมหากษัตราธิราช และผู้ทรงมีคุณูปการต่อแผ่นดินไทย"
DESCRIPTION:งานคุณธรรมและจริยธรรม ขอเชิญชวนบุคลากร นักศึกษา ผู้ป่วยและญาติ และประชาชนทั่วไป เข้าร่วมปฏิบัติธรรม เจริญสติด้วยการเดินจงกรมและนั่งสมาธิ  ในโครงการ “ศิริราชปฏิบัติบูชา ถวายแด่พระมหากษัตราธิราช และผู้ทรงมีคุณูปการต่อแผ่นดินไทย”  นำการปฏิบัติโดย พระปลัดสมภาร สมภาโร\, ผศ. ดร. ผู้ช่วยเจ้าอาวาสวัดมหาธาตุยุวราชรังสฤษฎิ์ฯ กทม. คณะ 10 ในวันพุธที่ 9 เมษายน 2568 ระหว่างเวลา 09.00 – 15.00 น. ณ ห้องประชุมตรีเพ็ชร อาคาร 100 ปี สมเด็จพระศรีนครินทร์ ชั้น 15 โรงพยาบาลศิริราช \n**การแต่งกาย : ชุดนักเรียน/นักศึกษา\, ชุดปฏิบัติงาน\, ชุดสุภาพ\nสอบถามเพิ่มเติมได้ที่ งานคุณธรรมและจริยธรรม คณะแพทยศาสตร์ศิริราชพยาบาล โทร. 02 419 9294 \n  \n \n  \n 
URL:https://www2.si.mahidol.ac.th/th/event/10155/
CATEGORIES:calendar,มีข่าวอยากบอก
ATTACH;FMTTYPE=image/jpeg:https://www2.si.mahidol.ac.th/th/wp-content/uploads/2025/03/4-9-68Posterปฏิบัติธรรม-EE.jpg
END:VEVENT
END:VCALENDAR