BEGIN:VCALENDAR
VERSION:2.0
PRODID:-//คณะแพทยศาสตร์ศิริราชพยาบาล มหาวิทยาลัยมหิดล - ECPv6.15.20//NONSGML v1.0//EN
CALSCALE:GREGORIAN
METHOD:PUBLISH
X-WR-CALNAME:คณะแพทยศาสตร์ศิริราชพยาบาล มหาวิทยาลัยมหิดล
X-ORIGINAL-URL:https://www2.si.mahidol.ac.th/th
X-WR-CALDESC:Events for คณะแพทยศาสตร์ศิริราชพยาบาล มหาวิทยาลัยมหิดล
REFRESH-INTERVAL;VALUE=DURATION:PT1H
X-Robots-Tag:noindex
X-PUBLISHED-TTL:PT1H
BEGIN:VTIMEZONE
TZID:Asia/Bangkok
BEGIN:STANDARD
TZOFFSETFROM:+0700
TZOFFSETTO:+0700
TZNAME:+07
DTSTART:20240101T000000
END:STANDARD
END:VTIMEZONE
BEGIN:VEVENT
DTSTART;TZID=Asia/Bangkok:20250620T080000
DTEND;TZID=Asia/Bangkok:20250620T170000
DTSTAMP:20260423T150631
CREATED:20240620T041926Z
LAST-MODIFIED:20250620T042748Z
UID:11641-1750406400-1750438800@www2.si.mahidol.ac.th
SUMMARY:การประชุมเชิงปฏิบัติการระดับนานาชาติ เรื่อง “การใช้ปลาม้าลายในการวิจัยทางชีวเวชศาสตร์”
DESCRIPTION:Zebrafish Facility for Biomedical Research (ZeBR) ภาควิชาชีวเคมี เชิญชวน อาจารย์ นักวิจัยนักวิทยาศาสตร์ นิสิต และนักศึกษา เข้าร่วมประชุมเชิงปฏิบัติการระดับนานาชาติ เรื่อง “การใช้ปลาม้าลายในการวิจัยทางชีวเวชศาสตร์”(“Application of Zebrafish Model for Biomedical Research”) โดยเชิญวิทยากรผู้มีความเชี่ยวชาญในการศึกษาและวิจัยเกี่ยวกับปลาม้าลายทั้งภายใน และต่างประเทศร่วมบรรยาย ระหว่างวันที่ 4-5 สิงหาคม 2568 ณ ห้องประชุมชีวเคมี 1 ชั้น 9 และห้องปฏิบัติการปลาม้าลายชั้น 9 ภาควิชาชีวเคมี อาคารศรีสวรินทิรา คณะแพทยศาสตร์ศิริราชพยาบาล ม.มหิดล \n>>คลิกลงทะเบียน<< \n 
URL:https://www2.si.mahidol.ac.th/th/event/11641/
CATEGORIES:calendar,อบรม-สัมมนา-บรรยาย-ประชุม
END:VEVENT
END:VCALENDAR