BEGIN:VCALENDAR
VERSION:2.0
PRODID:-//คณะแพทยศาสตร์ศิริราชพยาบาล มหาวิทยาลัยมหิดล - ECPv6.15.20//NONSGML v1.0//EN
CALSCALE:GREGORIAN
METHOD:PUBLISH
X-WR-CALNAME:คณะแพทยศาสตร์ศิริราชพยาบาล มหาวิทยาลัยมหิดล
X-ORIGINAL-URL:https://www2.si.mahidol.ac.th/th
X-WR-CALDESC:Events for คณะแพทยศาสตร์ศิริราชพยาบาล มหาวิทยาลัยมหิดล
REFRESH-INTERVAL;VALUE=DURATION:PT1H
X-Robots-Tag:noindex
X-PUBLISHED-TTL:PT1H
BEGIN:VTIMEZONE
TZID:Asia/Bangkok
BEGIN:STANDARD
TZOFFSETFROM:+0700
TZOFFSETTO:+0700
TZNAME:+07
DTSTART:20240101T000000
END:STANDARD
END:VTIMEZONE
BEGIN:VEVENT
DTSTART;TZID=Asia/Bangkok:20250315T083000
DTEND;TZID=Asia/Bangkok:20250315T163000
DTSTAMP:20260421T090311
CREATED:20250301T065656Z
LAST-MODIFIED:20250305T100149Z
UID:9787-1742027400-1742056200@www2.si.mahidol.ac.th
SUMMARY:เปิดรับสมัครเยาวชนอายุระหว่าง 7 – 12 ปีเข้ารับการอบรม "โครงการ ค่ายคุณธรรมเยาวชนศิริราชบางกอกน้อย ครั้งที่ 7" ตั้งเเต่วันนี้-15 มี.ค. 68
DESCRIPTION:งานคุณธรรมและจริยธรรม ร่วมกับ วัดอมรินทราราม กรมการขนส่งทหารเรือ เครือข่ายธรรมะอารมณ์ดี กลุ่มเพื่อชีวิตดีงาม โรงเรียนวัดอมรินทราราม และชุมชนในพื้นที่เขตบางกอกน้อย เป็นต้น เปิดสมัครเยาวชนอายุระหว่าง 7 – 12 ปีเข้ารับการอบรม “โครงการ ค่ายคุณธรรมเยาวชนศิริราชบางกอกน้อย ครั้งที่ 7” โดยจัดเป็นค่ายกลางวันไม่ค้างคืน เป็นเวลา 1 เดือน ระหว่างวันที่ 1 – 30 เมษายน 2568 เวลา 08.30 – 16.00 น. ณ อาคารพระปริยัติธรรม ชั้น 2 วัดอมรินทราราม วรวิหาร กรุงเทพมหานคร \nโดยเปิดรับสมัครเยาวชนอายุระหว่าง 7 – 12 ปี จำนวน 140 คน ดังนี้\n– บุตรของบุคลากรคณะแพทยศาสตร์ศิริราชพยาบาล\n– เยาวชนจากชุมชนในพื้นที่เขตบางกอกน้อย\n– นักเรียนโรงเรียนวัดอมรินทราราม\, โรงเรียนโฆสิตสโมสร\, โรงเรียนวัดวิเศษการ\n– บุตรของกำลังพลกรมการขนส่งทหารเรือ \nเปิดรับสมัครตั้งแต่บัดนี้จนถึง 15 มีนาคม 2568 หรือจนกว่าจะครบตามจำนวน\n**บุตรบุคลากรคณะ ฯ >>คลิก<< \n**บุตรสำหรับภาคีเครือข่าย >>คลิก<< \nสอบถามรายละเอียดเพิ่มเติมและส่งใบสมัครได้ที่ :งานคุณธรรมและจริยธรรม อาคารชัยนาทนเรนทรานุสรณ์ ชั้น 1 (ฝั่งริมน้ำ) โทร. 02 419 9435 (บงกช)
URL:https://www2.si.mahidol.ac.th/th/event/9787/
CATEGORIES:calendar,มีข่าวอยากบอก
ATTACH;FMTTYPE=image/jpeg:https://www2.si.mahidol.ac.th/th/wp-content/uploads/2025/02/3-15-68ค่ายคุณธรรม68-EE.jpg
END:VEVENT
END:VCALENDAR