BEGIN:VCALENDAR
VERSION:2.0
PRODID:-//คณะแพทยศาสตร์ศิริราชพยาบาล มหาวิทยาลัยมหิดล - ECPv6.15.20//NONSGML v1.0//EN
CALSCALE:GREGORIAN
METHOD:PUBLISH
X-WR-CALNAME:คณะแพทยศาสตร์ศิริราชพยาบาล มหาวิทยาลัยมหิดล
X-ORIGINAL-URL:https://www2.si.mahidol.ac.th/th
X-WR-CALDESC:Events for คณะแพทยศาสตร์ศิริราชพยาบาล มหาวิทยาลัยมหิดล
REFRESH-INTERVAL;VALUE=DURATION:PT1H
X-Robots-Tag:noindex
X-PUBLISHED-TTL:PT1H
BEGIN:VTIMEZONE
TZID:Asia/Bangkok
BEGIN:STANDARD
TZOFFSETFROM:+0700
TZOFFSETTO:+0700
TZNAME:+07
DTSTART:20240101T000000
END:STANDARD
END:VTIMEZONE
BEGIN:VEVENT
DTSTART;TZID=Asia/Bangkok:20250215T080000
DTEND;TZID=Asia/Bangkok:20250215T170000
DTSTAMP:20260422T121505
CREATED:20250102T043913Z
LAST-MODIFIED:20250122T070258Z
UID:9282-1739606400-1739638800@www2.si.mahidol.ac.th
SUMMARY:ขอเชิญบุคลากรคณะฯ แบบสำรวจความคิดเห็นต่อการให้บริการของงานพัฒนาคุณภาพ
DESCRIPTION:งานพัฒนาคุณภาพ ขอเชิญบุคลากรคณะ ฯ ตอบแบบสำรวจความคิดเห็นต่อการให้บริการของงานพัฒนาคุณภาพ คณะแพทยศาสตร์ศิริราชพยาบาล ประจำปี พ.ศ. 2567 เพื่อเป็นข้อมูลในการพัฒนาระบบบริหารจัดการ และการบริการของหน่วยงาน เพื่อสนับสนุนการบรรลุวิสัยทัศน์ของคณะฯ ต่อไป \nตอบแบบสำรวจได้ตั้งแต่วันนี้ – 15 กุมภาพันธ์ 2568  >>คลิก<<
URL:https://www2.si.mahidol.ac.th/th/event/9282/
CATEGORIES:calendar,มีข่าวอยากบอก
ATTACH;FMTTYPE=image/jpeg:https://www2.si.mahidol.ac.th/th/wp-content/uploads/2024/01/1-13-68ตอบเเบบสำรวจ-E.jpg
END:VEVENT
END:VCALENDAR