BEGIN:VCALENDAR
VERSION:2.0
PRODID:-//คณะแพทยศาสตร์ศิริราชพยาบาล มหาวิทยาลัยมหิดล - ECPv6.15.20//NONSGML v1.0//EN
CALSCALE:GREGORIAN
METHOD:PUBLISH
X-WR-CALNAME:คณะแพทยศาสตร์ศิริราชพยาบาล มหาวิทยาลัยมหิดล
X-ORIGINAL-URL:https://www2.si.mahidol.ac.th/th
X-WR-CALDESC:Events for คณะแพทยศาสตร์ศิริราชพยาบาล มหาวิทยาลัยมหิดล
REFRESH-INTERVAL;VALUE=DURATION:PT1H
X-Robots-Tag:noindex
X-PUBLISHED-TTL:PT1H
BEGIN:VTIMEZONE
TZID:Asia/Bangkok
BEGIN:STANDARD
TZOFFSETFROM:+0700
TZOFFSETTO:+0700
TZNAME:+07
DTSTART:20230101T000000
END:STANDARD
END:VTIMEZONE
BEGIN:VEVENT
DTSTART;TZID=Asia/Bangkok:20241009T100000
DTEND;TZID=Asia/Bangkok:20241021T160000
DTSTAMP:20260421T090326
CREATED:20240902T082224Z
LAST-MODIFIED:20241021T101648Z
UID:7802-1728468000-1729526400@www2.si.mahidol.ac.th
SUMMARY:เชิญชมนิทรรศการศิระกราน พระภูบาลนวมินทร์ “ศาสตร์พระราชา เพื่อแก้ไขปัญหาน้ำท่วมอย่างยั่งยืน”
DESCRIPTION:หน่วยพิพิธภัณฑ์ศิริราช ขอเชิญชมนิทรรศการศิระกราน พระภูบาลนวมินทร์ “ศาสตร์พระราชา เพื่อแก้ไขปัญหาน้ำท่วมอย่างยั่งยืน” ระหว่างวันที่ 9 – 21 ต.ค. 67 เวลา 10.00 – 16.30 น. (หยุดวันอังคารและวันหยุด\nนักขัตฤกษ์) ณ โถงต้อนรับ พิพิธภัณฑ์ศิริราชพิมุขสถาน
URL:https://www2.si.mahidol.ac.th/th/event/7802/
CATEGORIES:calendar,ศิริราชบอกข่าว
ATTACH;FMTTYPE=image/jpeg:https://www2.si.mahidol.ac.th/th/wp-content/uploads/2024/10/10-21-67นิทรรศการร.9-E.jpg
END:VEVENT
BEGIN:VEVENT
DTSTART;TZID=Asia/Bangkok:20241011T060000
DTEND;TZID=Asia/Bangkok:20241011T133000
DTSTAMP:20260421T090326
CREATED:20240920T040224Z
LAST-MODIFIED:20241011T070856Z
UID:7796-1728626400-1728653400@www2.si.mahidol.ac.th
SUMMARY:กิจกรรม ศิระกรานพระภูบาลนวมินทร์ ปีที่ 8 “ในหลวงผู้ทรงสถิตในดวงใจ” เนื่องในโอกาสครบรอบ 8 ปีวันสวรรคตพระบาทสมเด็จพระบรมชนกาธิเบศร มหาภูมิพลอดุลยเดชมหาราช บรมนาถบพิตร
DESCRIPTION:คณะแพทยศาสตร์ศิริราชพยาบาล มหาวิทยาลัยมหิดล ขอเชิญชวนร่วมกิจกรรม ศิระกรานพระภูบาลนวมินทร์ ปีที่ 8 “ในหลวงผู้ทรงสถิตในดวงใจ” เนื่องในโอกาสครบรอบ 8 ปีวันสวรรคตพระบาทสมเด็จพระบรมชนกาธิเบศร มหาภูมิพลอดุลยเดชมหาราช บรมนาถบพิตร เพื่อน้อมรำลึกในพระมหากรุณาธิคุณอย่างหาที่สุดมิได้ และเผยแพร่พระเกียรติคุณให้แผ่ไพศาล โดยกำหนดให้จัดกิจกรรมขึ้นในวันศุกร์ที่ 11 ตุลาคม 2567 ตั้งแต่เวลา 06.40 – 13.10 น. โรงพยาบาลศิริราช \nคณะแพทยศาสตร์ศิริราชพยาบาล มหาวิทยาลัยมหิดล ขอเชิญชวนร่วมกิจกรรม ศิระกรานพระภูบาลนวมินทร์ ปีที่ 8 “ในหลวงผู้ทรงสถิตในดวงใจ” เนื่องในโอกาสครบรอบ 8 ปีวันสวรรคตพระบาทสมเด็จพระบรมชนกาธิเบศร มหาภูมิพลอดุลยเดชมหาราช บรมนาถบพิตร เพื่อน้อมรำลึกในพระมหากรุณาธิคุณอย่างหาที่สุดมิได้ และเผยแพร่พระเกียรติคุณให้แผ่ไพศาล โดยกำหนดให้จัดกิจกรรมขึ้นในวันศุกร์ที่ 11 ตุลาคม 2567 ตั้งแต่เวลา 06.40 – 13.10 น. โรงพยาบาลศิริราช \nกำหนดการ\n“ศิระกรานพระภูบาลนวมินทร์ (ปีที่ 8) ในหลวงผู้ทรงสถิตในดวงใจ” วันศุกร์ที่ 11 ตุลาคม 2567 ณ โรงพยาบาลศิริราช \nจากประตูท่าน้ำศิริราช (ประตู 8) – ตึกศรีสังวาลย์ \n06.40 – 07.30 น. – พิธีทำบุญตักบาตรพระสงฆ์ 50 รูป เพื่อถวายพระราชกุศลแด่พระบาทสมเด็จพระบรมชนกาธิเบศร\nมหาภูมิพลอดุลยเดชมหาราช บรมนาถบพิตร ณ ลานอเนกประสงค์คณะพยาบาลศาสตร์ \n07.40 – 07.50 น. – ผู้บริหารคณะฯ ถวายไทยธรรม (ผู้บริหาร 5 ท่าน ประเคนปัจจัยไทยธรรม) ณ ลานพระราชานุสาวรีย์\nสมเด็จพระมหิตลาธิเบศร อดุลยเดชวิกรม พระบรมราชชนก \n08.00 น. – เคารพธงชาติ ณ ลานพระราชานุสาวรีย์ฯ \n08.05 – 08.10 น. – พิธีถวายสักการะเบื้องหน้าพระบรมฉายาลักษณ์พระบาทสมเด็จพระบรมชนกาธิเบศร\nมหาภูมิพลอดุลยเดชมหาราช บรมนาถบพิตร และพระบาทสมเด็จพระเจ้าอยู่หัว\n– ศ.นพ.อภิชาติ อัศวมงคลกุล คณบดีคณะแพทยศาสตร์ศิริราชพยาบาล ม.มหิดล นำกล่าวสดุดี \nณ ศาลาศิริราช ๑๐๐ ปี \n08.15 – 09.00 น. – สวดพระพุทธมนต์และสดับปกรณ์ อุทิศถวายเป็นพระราชกุศลแด่พระบาทสมเด็จพระบรมชนกาธิเบศร\nมหาภูมิพลอดุลยเดชมหาราช บรมนาถบพิตร และเจริญพระพุทธมนต์ถวายพระพรชัยมงคล\nพระบาทสมเด็จพระเจ้าอยู่หัว สมเด็จพระนางเจ้าสิริกิติ์ พระบรมราชินีนาถ พระบรมราชชนนีพันปีหลวง\nและ สมเด็จพระนางเจ้าฯ พระบรมราชินี \n09.00 – 09.09 น. – เจริญจิตตภาวนา 9 นาที อุทิศถวายเป็นพระราชกุศลแด่พระบาทสมเด็จพระบรมชนกาธิเบศร\nมหาภูมิพลอดุลยเดชมหาราช บรมนาถบพิตร \n09.10 – 09.35 น. – ท่านคณบดี และผู้บริหาร ถวายภัตตาหาร จตุปัจจัยและเครื่องไทยธรรม \n09.40 – 10.30 น. – ชมการแสดงดนตรีในบทเพลงพระราชนิพนธ์ รัชกาลที่ 9 จาก วงดุริยางค์ทหารเรือ \n10.30 – 11.30 น.  – ปาฐกถาเทิดพระเกียรติ “บทเพลงพระราชนิพนธ์ในรัชกาลที่ 9” \nโดย ดร.สุเมธ ตันติเวชกุล กรรมการและเลขาธิการมูลนิธิชัยพัฒนา\n– ท่านคณบดีกล่าวขอบคุณและมอบของที่ระลึก\n– พิธีกรนำเข้าการแสดงดนตรีจาก วงดุริยางค์ทหารเรือ (รอบที่ 2) \n12.00 – 13.00 น. – ชมการแสดงดนตรีในบทเพลงพระราชนิพนธ์ รัชกาลที่ 9\nจาก วงดุริยางค์ทหารเรือ รอบที่ 2 \n13.10 น.                  – พิธีกรกล่าวขอบคุณ และเชิญผู้บริหารมอบของที่ระลึกแสดงความขอบคุณแก่\nผู้แทนกองทัพเรือ 2 \nเเละหน่วยพิพิธภัณฑ์ศิริราช ขอเชิญชมนิทรรศการศิระกราน พระภูบาลนวมินทร์ “ศาสตร์พระราชา เพื่อแก้ไขปัญหาน้ำท่วมอย่างยั่งยืน” ระหว่างวันที่ 9 – 21 ต.ค. 67 เวลา 10.00 – 16.30 น. (หยุดวันอังคารและวันหยุด\nนักขัตฤกษ์) ณ โถงต้อนรับ พิพิธภัณฑ์ศิริราชพิมุขสถาน \nหมายเหตุ…\n– กิจกรรม ณ บริเวณ ศาลาศิริราช ๑๐๐ ปี สามาถชมการถ่ายทอดสดผ่าน SiBN \, Siriraj Channel และ\n– Facebook Live : งานองค์กรสัมพันธ์และกิจการพิเศษศิริราช\, sirirajpr \nวันอาทิตย์ที่ 13 ตุลาคม 2567\nคณะเเพทยศาสตร์ศิริราชพยาบาล ม.มหิดล ไม่มีการจัดกิจกรรมเนื่องในวันนวมินทรมหาราช ประจำปี 2567 เนื่องจากประกาศเป็นวันหยุดราชการ\n 
URL:https://www2.si.mahidol.ac.th/th/event/7796/
CATEGORIES:calendar,ศิริราชบอกข่าว
ATTACH;FMTTYPE=image/jpeg:https://www2.si.mahidol.ac.th/th/wp-content/uploads/2024/10/10-11-67ศิระกรานปี8-EE.jpg
END:VEVENT
END:VCALENDAR