BEGIN:VCALENDAR
VERSION:2.0
PRODID:-//คณะแพทยศาสตร์ศิริราชพยาบาล มหาวิทยาลัยมหิดล - ECPv6.15.20//NONSGML v1.0//EN
CALSCALE:GREGORIAN
METHOD:PUBLISH
X-WR-CALNAME:คณะแพทยศาสตร์ศิริราชพยาบาล มหาวิทยาลัยมหิดล
X-ORIGINAL-URL:https://www2.si.mahidol.ac.th/th
X-WR-CALDESC:Events for คณะแพทยศาสตร์ศิริราชพยาบาล มหาวิทยาลัยมหิดล
REFRESH-INTERVAL;VALUE=DURATION:PT1H
X-Robots-Tag:noindex
X-PUBLISHED-TTL:PT1H
BEGIN:VTIMEZONE
TZID:Asia/Bangkok
BEGIN:STANDARD
TZOFFSETFROM:+0700
TZOFFSETTO:+0700
TZNAME:+07
DTSTART:20230101T000000
END:STANDARD
END:VTIMEZONE
BEGIN:VEVENT
DTSTART;TZID=Asia/Bangkok:20241111T083000
DTEND;TZID=Asia/Bangkok:20241112T153000
DTSTAMP:20260421T074933
CREATED:20241021T044533Z
LAST-MODIFIED:20241024T082902Z
UID:7256-1731313800-1731425400@www2.si.mahidol.ac.th
SUMMARY:ขอเชิญร่วมกิจกรรมวันเบาหวานโลก ปี 2567 ระหว่างวันที่ 11-12 พ.ย. 67
DESCRIPTION:ศูนย์เบาหวานศิริราช ร่วมกับ สาขาวิชาต่อมไร้ท่อและเมแทบอลิซึม ภาควิชากุมารเวชศาสตร์ สาขาวิชาต่อมไร้ท่อและเมตะบอลิสม ภาควิชาอายุรศาสตร์ ฝ่ายการพยาบาล ฝ่ายเภสัชกรรม และฝ่ายโภชนาการ โรงพยาบาลศิริราช ขอเชิญร่วมกิจกรรมวันเบาหวานโลก ปี 2567  ปีนี้มาในธีม “โรคเบาหวานและความเป็นอยู่ที่ดีแบบองค์รวม” “Diabetes and Well-being” ระหว่างวันที่ 11-12 พฤศจิกายน 2567 เวลา 08.30 – 15.30 น. ณ ศาลาศิริราช ๑๐๐ ปี โรงพยาบาลศิริราช \nภายในงานพบกับกิจกรรม…\n– กิจกรรมบนเวที\n**วันจันทร์ที่ 11 พฤศจิกายน 2567 เสวนาความรู้ในหัวข้อ “เทคโนโลยีกับชีวิตที่ง่ายขึ้น เพื่อผู้เป็นเบาหวาน”\n**วันอังคารที่ 12 พฤศจิกายน 2567 กิจกรรมแข่งขันประกวดวาดภาพ\n– การตรวจวัดประเมินร่างกาย เจาะน้ำตาลปลายนิ้ว (จำกัดบริการ 100 ท่าน/วัน)\n– บูธกิจกรรม/ความรู้ จากหน่วยงานต่าง ๆ\n-และกิจกรรมอื่นๆอีกมากมาย
URL:https://www2.si.mahidol.ac.th/th/event/%e0%b8%82%e0%b8%ad%e0%b9%80%e0%b8%8a%e0%b8%b4%e0%b8%8d%e0%b8%a3%e0%b9%88%e0%b8%a7%e0%b8%a1%e0%b8%81%e0%b8%b4%e0%b8%88%e0%b8%81%e0%b8%a3%e0%b8%a3%e0%b8%a1%e0%b8%a7%e0%b8%b1%e0%b8%99%e0%b9%80%e0%b8%9a%e0%b8%b2%e0%b8%ab%e0%b8%a7%e0%b8%b2%e0%b8%99%e0%b9%82%e0%b8%a5%e0%b8%81-%e0%b8%9b%e0%b8%b5-2567-%e0%b8%a3%e0%b8%b0%e0%b8%ab%e0%b8%a7%e0%b9%88%e0%b8%b2%e0%b8%87%e0%b8%a7%e0%b8%b1%e0%b8%99%e0%b8%97%e0%b8%b5%e0%b9%88-11-12-%e0%b8%9e-%e0%b8%a2-67/
CATEGORIES:calendar,มีข่าวอยากบอก
ATTACH;FMTTYPE=image/jpeg:https://www2.si.mahidol.ac.th/th/wp-content/uploads/2024/08/11-11-67งานเบาหวาน_EE.jpg
END:VEVENT
END:VCALENDAR