BEGIN:VCALENDAR
VERSION:2.0
PRODID:-//คณะแพทยศาสตร์ศิริราชพยาบาล มหาวิทยาลัยมหิดล - ECPv6.15.20//NONSGML v1.0//EN
CALSCALE:GREGORIAN
METHOD:PUBLISH
X-WR-CALNAME:คณะแพทยศาสตร์ศิริราชพยาบาล มหาวิทยาลัยมหิดล
X-ORIGINAL-URL:https://www2.si.mahidol.ac.th/th
X-WR-CALDESC:Events for คณะแพทยศาสตร์ศิริราชพยาบาล มหาวิทยาลัยมหิดล
REFRESH-INTERVAL;VALUE=DURATION:PT1H
X-Robots-Tag:noindex
X-PUBLISHED-TTL:PT1H
BEGIN:VTIMEZONE
TZID:Asia/Bangkok
BEGIN:STANDARD
TZOFFSETFROM:+0700
TZOFFSETTO:+0700
TZNAME:+07
DTSTART:20240101T000000
END:STANDARD
END:VTIMEZONE
BEGIN:VEVENT
DTSTART;TZID=Asia/Bangkok:20251103T080000
DTEND;TZID=Asia/Bangkok:20251107T170000
DTSTAMP:20260419T215014
CREATED:20251101T083808Z
LAST-MODIFIED:20251103T065235Z
UID:11976-1762156800-1762534800@www2.si.mahidol.ac.th
SUMMARY:งานประชุมวิชาการ ประจำปี 2568 “ครบรอบ 80 ปี กุมารศิริราช”
DESCRIPTION:ภาควิชากุมารเวชศาสตร์ ขอเชิญบุคลากรทางการเเพทย์เข้าร่วมงานประชุมวิชาการ ประจำปี 2567  หัวข้อ “Caring for the Next Generation” เนื่องในโอกาสพิเศษ “ครบรอบ 80 ปี กุมารศิริราช” \n\nระหว่างวันที่ 3-7 พฤศจิกายน 2568 ณ ห้องประชุมประสงค์ ตู้จินดา ตึกอานันทมหิดล ชั้น 10 และห้องประชุมราชปนัดดา อาคารศรีสวรินทิรา โรงพยาบาลศิริราช\n\n\n\nคลิกดูรายละเอียดเเละลงทะเบียน 
URL:https://www2.si.mahidol.ac.th/th/event/11976/
CATEGORIES:calendar,อบรม-สัมมนา-บรรยาย-ประชุม
ATTACH;FMTTYPE=image/jpeg:https://www2.si.mahidol.ac.th/th/wp-content/uploads/2025/09/11-3-68SiPAM2025-EE.jpg
END:VEVENT
BEGIN:VEVENT
DTSTART;TZID=Asia/Bangkok:20251103T120000
DTEND;TZID=Asia/Bangkok:20251103T130000
DTSTAMP:20260419T215014
CREATED:20250916T034636Z
LAST-MODIFIED:20251016T041653Z
UID:13508-1762171200-1762174800@www2.si.mahidol.ac.th
SUMMARY:การบรรยาย Strategic Research Forum 2025 หัวข้อ "Data ConneX: Data Integration for Research"
DESCRIPTION:ฝ่ายวิจัย ขอเชิญผู้สนใจเข้าร่วมรับฟังการบรรยาย Strategic Research Forum 2025 หัวข้อ “Data ConneX: Data Integration for Research” โดย วิทยากร Peat Winch\, PharmD (Hon)\, MSc – Director\, Medical Science\, Data Excellence & Strategy ในวันที่ 3 พฤศจิกายน 2568 เวลา 12.00-13.00 น. ณ ห้องประชุม 101 ชั้น 1 อาคารศูนย์วิจัยการแพทย์ศิริราช คณะแพทยศาสตร์ศิริราชพยาบาล \nเริ่มลงทะเบียนเข้างาน 11.30 น. เป็นต้นไป\n**มีอาหารกลางวันรับรองสำหรับผู้ที่ ลงทะเบียนเข้างานล่วงหน้า (รูปแบบการจัดกิจกรรม: Onsite)** \nผู้ที่สนใจลงทะเบียนเข้าร่วมการประชุม (โดยไม่เสียค่าใช้จ่าย) >>คลิก<< \n 
URL:https://www2.si.mahidol.ac.th/th/event/%e0%b8%81%e0%b8%b2%e0%b8%a3%e0%b8%9a%e0%b8%a3%e0%b8%a3%e0%b8%a2%e0%b8%b2%e0%b8%a2-strategic-research-forum-2025-%e0%b8%ab%e0%b8%b1%e0%b8%a7%e0%b8%82%e0%b9%89%e0%b8%ad-data-connex-data-integration-for-research/
CATEGORIES:calendar,อบรม-สัมมนา-บรรยาย-ประชุม
END:VEVENT
BEGIN:VEVENT
DTSTART;TZID=Asia/Bangkok:20251107T083000
DTEND;TZID=Asia/Bangkok:20251109T163000
DTSTAMP:20260419T215014
CREATED:20251101T085830Z
LAST-MODIFIED:20251103T065504Z
UID:13274-1762504200-1762705800@www2.si.mahidol.ac.th
SUMMARY:การอบรมหลักสูตรผู้บริหาร HEALTHI Lab for Executives จาก รพ.ศิริราช
DESCRIPTION:ศูนย์ขับเคลื่อนงานนวัตกรรมเพื่อความเป็นเลิศ (SiEIC) ขอเชิญผู้สนใจเข้าร่วมโครงการ HEALTHI LAB for Executives หลักสูตรผู้บริหาร HEALTHI Lab for Executives จาก โรงพยาบาลศิริราช\, MIT nextMED และ Degree Plus ที่นำองค์ความรู้ระดับโลกจาก MIT มาติดอาวุธให้คุณเป็นผู้นำด้านนวัตกรรมการแพทย์และสุขภาพ โดยจัดกิจกรรมขึ้นระหว่างวันที่ 7–9 พฤศจิกายน 2568 ณ โรงพยาบาลศิริราช \nProgram Highlights:\n✅ Led by MIT Experts\n✅ Siriraj Hospital Immersion\n✅ Innovation Toolkits\n✅ Trend Updates\n✅ Exclusive Networking\n.\nWho Should Attend : ผู้บริหารระดับสูง เช่น\n👤 Healthcare Executives โรงพยาบาล เครือธุรกิจคลินิก สถานบริการสุขภาพ หรือบริษัทอุปกรณ์การแพทย์\n👤 Health Innovation Entrepreneurs ผู้ก่อตั้ง ผู้ประกอบการ และผู้นำองค์กร SME ด้านสุขภาพ\n👤 Team Leaders หัวหน้าฝ่าย หรือหัวหน้าหน่วยธุรกิจในองค์กรที่อยากเปิดรับโอกาสเทรนด์สุขภาพ\n👤 Public Sectors ภาครัฐ ที่กำหนดนโยบาย และการขับเคลื่อนอุตสาหกรรม\n👤 University Leaders สถาบันการศึกษาทั้งภาครัฐและภาคเอกชน ที่สนใจ Healthcare Innovation\n.\n💰Program fee: 60\,000 THB (VAT excluded)\n🎓 พิเศษ! ศิษย์เก่าศิริราช รับส่วนลด 15% เหลือเพียง 51\,000 บาท สำหรับผู้ที่ยืนยันสิทธิ 5 ท่านแรกเท่านั้น \n📌 สมัครหรือดาวน์โหลดโบรชัวร์: https://to.degree.plus/1lzxPDzjqVb\n📲 LINE OA: @degreeplus\n📞 โทร: 088-879-3107 (Dream)\, 081-654-6482 (Tong) \n 
URL:https://www2.si.mahidol.ac.th/th/event/13274/
CATEGORIES:calendar,อบรม-สัมมนา-บรรยาย-ประชุม
ATTACH;FMTTYPE=image/jpeg:https://www2.si.mahidol.ac.th/th/wp-content/uploads/2025/10/11-7-68HEALTHI-LabX-EE.jpg
END:VEVENT
BEGIN:VEVENT
DTSTART;TZID=Asia/Bangkok:20251109T080000
DTEND;TZID=Asia/Bangkok:20251110T150000
DTSTAMP:20260419T215014
CREATED:20251102T043735Z
LAST-MODIFIED:20251103T095610Z
UID:13355-1762675200-1762786800@www2.si.mahidol.ac.th
SUMMARY:กิจกรรมอบรม เรื่อง "การส่งเสริมพัฒนาการเด็กออทิสติกและเด็กที่มีพัฒนาการล่าช้าอื่นๆ ตามแนวทาง DIR/Floortime®
DESCRIPTION:ภาควิชาเวชศาสตร์ฟื้นฟู ขอเชิญเเพทย์ นักบำบัด ครู เเละผู้ปกครอง เข้าร่วมอบรม เรื่อง “การส่งเสริมพัฒนาการเด็กออทิสติกและเด็กที่มีพัฒนาการล่าช้าอื่นๆ ตามแนวทาง DIR/Floortime® ”  ระหว่างวันที่  9-11 พฤศจิกายน พ.ศ. 2568  ณ ห้องประชุมริเวอร์ไรน์ 1 ชั้น 9  ริเวอร์ไรน์เพลส โฮเทล แอนด์ เรสซิเดนซ์ จังหวัดนนทบุรี โดยมีวัตถุประสงค์เพื่อสร้างความเข้าใจตามกรอบแนวคิดของการพัฒนาเด็กแบบองค์รวมและสามารถประยุกต์ใช้เทคนิคการเล่นตามแนวทาง DIR/Floortime®  และสามารถประเมินระดับพัฒนาการของเด็กตาม Functional Emotional Development \nสอบถามเพิ่มเติมได้ที่ ภาควิชาเวชศาสตร์ฟื้นฟู คุณสุธิดา / คุณชวลิต / คุณศิริพร / คุณรัศมิ์รดี โทร. 02 411 4813 หรือ 02 411 2408 (ในวันและเวลาราชการ) \nคลิกดาวน์โหลดเอกสารเเละลงทะเบียน \n 
URL:https://www2.si.mahidol.ac.th/th/event/13355/
CATEGORIES:calendar,อบรม-สัมมนา-บรรยาย-ประชุม
ATTACH;FMTTYPE=image/jpeg:https://www2.si.mahidol.ac.th/th/wp-content/uploads/2025/09/11-10-68poster_2568-EE.jpg
END:VEVENT
BEGIN:VEVENT
DTSTART;TZID=Asia/Bangkok:20251113T083000
DTEND;TZID=Asia/Bangkok:20251114T160000
DTSTAMP:20260419T215014
CREATED:20250928T042115Z
LAST-MODIFIED:20251103T101403Z
UID:13687-1763022600-1763136000@www2.si.mahidol.ac.th
SUMMARY:การประชุมวิชาการร่วม Joint Conference Siriraj Cancer Center and Institute of Science Tokyo
DESCRIPTION:สถานวิทยามะเร็งศิริราช ขอเชิญเข้ารวมการประชุมวิชาการร่วม Joint Conference Siriraj Cancer Center and Institute of Science Tokyo เนื่องในโอกาสฉลองครบรอบการใช้ชื่อ”สถานวิทยามะเร็งศิริราช” ครบ 30 ปีทั้งนี้เพื่อเพิ่มพูนความรู้ด้านทางการแพทย์ในการวินิจฉัย การรักษา การป้องกันของโรคมะเร็ง ในวันที่่ 14 พฤศจิกายน 2568 ณ ห้องประชุมสิรินธร อาคารเฉลิมพระเกียรติ ชั้น G และกิจกรรมสำหรับภาคประชาชน ระหว่างวันที่ 13-14 พฤศจิกายน 2568 ณ ศาลาศิริราช ๑๐๐ ปี โรงพยาบาลศิริราช \nคลิกลงทะเบียน \n 
URL:https://www2.si.mahidol.ac.th/th/event/13687/
CATEGORIES:calendar,อบรม-สัมมนา-บรรยาย-ประชุม
ATTACH;FMTTYPE=image/jpeg:https://www2.si.mahidol.ac.th/th/wp-content/uploads/2025/09/11-13-68-30ปีสถานวิทยามะเร็ง_EE.jpg
END:VEVENT
BEGIN:VEVENT
DTSTART;TZID=Asia/Bangkok:20251114T130000
DTEND;TZID=Asia/Bangkok:20251114T140000
DTSTAMP:20260419T215014
CREATED:20241111T043713Z
LAST-MODIFIED:20251112T075928Z
UID:13952-1763125200-1763128800@www2.si.mahidol.ac.th
SUMMARY:งาน SiNTC INNOTECH Talk 2025
DESCRIPTION:ภาควิชาศัลยศาสตร์ ร่วมกับ ศูนย์นวัตกรรมและเทคโนโลยีศัลยศาสตร์ ได้จัดงาน SiNTC INNOTECH Talk 2025 หัวข้อ Opportunities and Challenges of Applying AI to Healthcare: Lessons from Pathology Applications และ Collaborative Precision Medicine: Building Bridges between Sequencers and Surgeons ในวันศุกร์ที่ 14 พฤศจิกายน 2568 เวลา 13.00 – 14.00 น. ณ ห้อง Co-working ศูนย์นวัตกรรมและเทคโนโลยีศัลยศาสตร์ ตึกสยามินทร์ ชั้น 8 หรือผ่านช่องทางออนไลน์ \nคลิกลงทะเบียน \n  \n \n 
URL:https://www2.si.mahidol.ac.th/th/event/13952/
CATEGORIES:calendar,อบรม-สัมมนา-บรรยาย-ประชุม
ATTACH;FMTTYPE=image/jpeg:https://www2.si.mahidol.ac.th/th/wp-content/uploads/2024/11/11-14-68SiNTCINNOTECHTalk2025-EE.jpg
END:VEVENT
BEGIN:VEVENT
DTSTART;TZID=Asia/Bangkok:20251119T130000
DTEND;TZID=Asia/Bangkok:20251119T160000
DTSTAMP:20260419T215014
CREATED:20251104T081423Z
LAST-MODIFIED:20251112T021843Z
UID:13816-1763557200-1763568000@www2.si.mahidol.ac.th
SUMMARY:กิจกรรม "โยคะภาวนา"
DESCRIPTION:งานคุณธรรมและจริยธรรม ร่วมกับ ศูนย์กุมารบริรักษ์ และศูนย์บริรักษ์ศิริราช คณะแพทยศาสตร์ศิริราชพยาบาล และคณะเทคนิคการแพทย์ มหาวิทยาลัยมหิดล จัดโครงการ “เยียวยาผู้ดูแล” (Healing the Healer) ขอเชิญชวนบุคลากรเข้าร่วมกิจกรรมประจำเดือนพฤศจิกายน 2568 “โยคะภาวนา” วันพุธที่ 19 พฤศจิกายน 2568 เวลา 13.00 – 16.00 น. ณ ห้องประชุมชั้น 11 อาคารคณะเทคนิคการแพทย์  โรงพยาบาลศิริราช \nคลิกลงทะเบียน \n 
URL:https://www2.si.mahidol.ac.th/th/event/13816/
CATEGORIES:calendar,มีข่าวอยากบอก
ATTACH;FMTTYPE=image/jpeg:https://www2.si.mahidol.ac.th/th/wp-content/uploads/2025/10/11-19-68โยคะภาวนา_2568-EE.jpg
END:VEVENT
BEGIN:VEVENT
DTSTART;TZID=Asia/Bangkok:20251126T123000
DTEND;TZID=Asia/Bangkok:20251126T153000
DTSTAMP:20260419T215014
CREATED:20251021T061831Z
LAST-MODIFIED:20251121T063144Z
UID:14108-1764160200-1764171000@www2.si.mahidol.ac.th
SUMMARY:กิจกรรม"ศิริราช คณะแพทย์คุณธรรม รวมพลังต่อต้านคอร์รัปชัน (สากล)"
DESCRIPTION:เนื่องด้วยวันต่อต้านการทุจริตสากล ตรงกับวันที่ 9 ธันวาคม ของทุกปี คณะแพทยศาสตร์ศิริราชพยาบาล มหาวิทยาลัยมหิดล เห็นความสำคัญของการต่อต้านทุจริต งานคุณธรรมและจริยธรรม ขอเชิญบุคลากร เข้าร่วมฟังบรรยายเเละเเลกเปลี่ยนประสบการณ์ โดยวิทยากรผู้ทรงคุณวุฒิ ในกิจกรรม”ศิริราช คณะแพทย์คุณธรรม รวมพลังต่อต้านคอร์รัปชัน (สากล)” จัดขึ้นวันพุธที่ 26 พฤศจิกายน 2568 เวลา 12:50 – 15:30 น. ณ ห้องประชุมสิรินธร อาคารเฉลิมพระเกียรติ ชั้น G โรงพยาบาลศิริราช \nร่วมส่งคำถามคลิก \n 
URL:https://www2.si.mahidol.ac.th/th/event/14108/
CATEGORIES:calendar,อบรม-สัมมนา-บรรยาย-ประชุม
END:VEVENT
BEGIN:VEVENT
DTSTART;TZID=Asia/Bangkok:20251128T080000
DTEND;TZID=Asia/Bangkok:20251128T233000
DTSTAMP:20260419T215014
CREATED:20251010T083125Z
LAST-MODIFIED:20251113T030548Z
UID:13328-1764316800-1764372600@www2.si.mahidol.ac.th
SUMMARY:โครงการพัฒนาจิตเพื่อให้เกิดปัญญาและสันติสุข หรือคอร์สเจริญสติศิริราช ปิดรับสมัคร 28 พ.ย.68
DESCRIPTION:งานคุณธรรมและจริยธรรม คณะแพทยศาสตร์ศิริราชพยาบาล ร่วมกับ คณะพยาบาลศาสตร์ คณะเทคนิคการแพทย์ และคณะกายภาพบำบัด มหาวิทยาลัยมหิดล ขอเชิญบุคลากร ผู้เกษียณอายุงาน ญาติ และเพื่อนบุคลากรของคณะแพทยศาสตร์ศิริราชพยาบาล และคณะอื่น ๆ ภายในมหาวิทยาลัยมหิดล “โครงการพัฒนาจิตเพื่อให้เกิดปัญญาและสันติสุข หรือคอร์สเจริญสติศิริราช (Siriraj Mindfulness Meditation Course) ครั้งที่ 48” ระหว่างวันที่ 17-21 ธันวาคม 2568 ณ ศูนย์ฝึกอบรมและปฏิบัติธรรมศิริราช จังหวัดนครปฐม  ***ปิดรับใบสมัครในวันที่ 28 พฤศจิกายน 2568 (เข้าร่วมการอบรมโดยไม่เสียค่าใช้จ่าย) \nส่งใบสมัครเเละสอบถามรายละเอียด ได้ที่ คุณธัญวรัตม์ งานคุณธรรมและจริยธรรม อาคารชัยนาทนเรนทรานุสรณ์ ชั้น 1 (ฝั่งริมน้ำ) โทร. 02 419 9435\, 062 441 6252  \n\nหมายเหตุ : บุคลากรศิริราชที่ได้รับอนุมัติจากผู้บังคับบัญชาแล้ว สามารถเข้ารับการอบรมได้โดยไม่ถือเป็นวันลา\n\nคลิกดูรายละเอียด  \n 
URL:https://www2.si.mahidol.ac.th/th/event/13328/
CATEGORIES:calendar,มีข่าวอยากบอก
ATTACH;FMTTYPE=image/jpeg:https://www2.si.mahidol.ac.th/th/wp-content/uploads/2025/09/12-17-68พัฒนาจิต-E.jpg
END:VEVENT
END:VCALENDAR