BEGIN:VCALENDAR
VERSION:2.0
PRODID:-//คณะแพทยศาสตร์ศิริราชพยาบาล มหาวิทยาลัยมหิดล - ECPv6.15.20//NONSGML v1.0//EN
CALSCALE:GREGORIAN
METHOD:PUBLISH
X-WR-CALNAME:คณะแพทยศาสตร์ศิริราชพยาบาล มหาวิทยาลัยมหิดล
X-ORIGINAL-URL:https://www2.si.mahidol.ac.th/th
X-WR-CALDESC:Events for คณะแพทยศาสตร์ศิริราชพยาบาล มหาวิทยาลัยมหิดล
REFRESH-INTERVAL;VALUE=DURATION:PT1H
X-Robots-Tag:noindex
X-PUBLISHED-TTL:PT1H
BEGIN:VTIMEZONE
TZID:Asia/Bangkok
BEGIN:STANDARD
TZOFFSETFROM:+0700
TZOFFSETTO:+0700
TZNAME:+07
DTSTART:20250101T000000
END:STANDARD
END:VTIMEZONE
BEGIN:VEVENT
DTSTART;TZID=Asia/Bangkok:20260105T090000
DTEND;TZID=Asia/Bangkok:20260109T160000
DTSTAMP:20260420T010416
CREATED:20251219T041353Z
LAST-MODIFIED:20260106T092505Z
UID:14531-1767603600-1767974400@www2.si.mahidol.ac.th
SUMMARY:งานเสวนาเรื่อง สัปดาห์โรคเลือด…เล่าเรื่องเลือด (Blood insight week 2025)
DESCRIPTION:สาขาวิชาโลหิตวิทยา ภาควิชาอายุรศาสตร์ ขอเชิญชวนร่วมงานเสวนาเรื่อง สัปดาห์โรคเลือด…เล่าเรื่องเลือด (Blood insight week 2025) ระหว่างวันที่ 5 – 9 มกราคม 2569 เวลา09.00 – 16.00 น. ณ ศาลาศิริราช ๑๐๐ ปี โรงพยาบาลศิริราช \nภายในงานพบกับ… \n– การเสวนาโดยโลหิตเเพทย์เเละผู้ป่วยโรคเลือด \n– การจัดเเสดงนิทรรศการ ให้ความรู้ \n– การแสดงภาพวาด \n– การสาธิตวาดภาพ ระบายสีน้ำดอกไม้ โดย รศ.สรรณรงค์ สิงหเสนี \nเเละกิจกรรมร่วมสนุกชิงรางวัล
URL:https://www2.si.mahidol.ac.th/th/event/14531/
CATEGORIES:calendar,อบรม-สัมมนา-บรรยาย-ประชุม
ATTACH;FMTTYPE=image/jpeg:https://www2.si.mahidol.ac.th/th/wp-content/uploads/2025/11/1-5-69Blood-insight-E1.jpg
END:VEVENT
BEGIN:VEVENT
DTSTART;TZID=Asia/Bangkok:20260127T083000
DTEND;TZID=Asia/Bangkok:20260127T100000
DTSTAMP:20260420T010416
CREATED:20251223T023122Z
LAST-MODIFIED:20251223T025726Z
UID:14071-1769502600-1769508000@www2.si.mahidol.ac.th
SUMMARY:การเสวนาหัวข้อ “Leveraging ChatGPT\, Gemini\, and Beyond for Manuscript Upgrading”
DESCRIPTION:หน่วยพัฒนางานประจำสู่งานวิจัย (R2R) งานกลุ่มวิจัยและเครือข่ายวิจัย ฝ่ายวิจัย ขอเชิญบุคลากรคณะแพทยศาสตร์ศิริราชพยาบาล (Siriraj\, GJ\, SiPH) เข้าร่วมฟังการเสวนาแลกเปลี่ยนเรียนรู้ หัวข้อ “Leveraging ChatGPT\, Gemini\, and Beyond for Manuscript Upgrading” ในวันจันทร์ที่ 27 มกราคม 2569 เวลา 08:30-10:15 น. ทางโปรแกรม Zoom \nวัตถุประสงค์: เพื่อให้ผู้เข้าฟังได้เรียนรู้และสามารถนำเครื่องมือปัญญาประดิษฐ์ (AI) เช่น ChatGPT และ Gemini มาประยุกต์ใช้ในการปรับปรุงและยกระดับคุณภาพของต้นฉบับงานวิจัย (Manuscript Upgrading) ให้มีประสิทธิภาพมากยิ่งขึ้น \nคลิกลงทะเบียน \n 
URL:https://www2.si.mahidol.ac.th/th/event/14071/
CATEGORIES:calendar,อบรม-สัมมนา-บรรยาย-ประชุม
ATTACH;FMTTYPE=image/jpeg:https://www2.si.mahidol.ac.th/th/wp-content/uploads/2025/10/1-27-68Leveraging-ChatGPT-E.jpg
END:VEVENT
BEGIN:VEVENT
DTSTART;TZID=Asia/Bangkok:20260129T080000
DTEND;TZID=Asia/Bangkok:20260130T170000
DTSTAMP:20260420T010416
CREATED:20240913T090054Z
LAST-MODIFIED:20260120T073430Z
UID:14010-1769673600-1769792400@www2.si.mahidol.ac.th
SUMMARY:โครงการปลดล็อกพลังบวกภายในตนเอง (Unleash Inner Positivity) รุ่นที่ 15 สำหรับบุคลากร
DESCRIPTION:ฝ่ายทรัพยากรบุคคล ขอเชิญบุคลากรศิริราช เข้าร่วมโครงการปลดล็อกพลังบวกภายในตนเอง (Unleash Inner Positivity) รุ่นที่ 15 ขึ้น ในวันที่ 29 – 30 มกราคม 2569 เวลา 09.00–16.00 น. ณ ศูนย์ส่งเสริมและ\nพัฒนาสุขภาวะทางใจ (SiTAM) และติดตามผลในวันที่ 23 กุมภาพันธุ์ และ 19 มีนาคม 2569 เวลา 09.00–16.00 น. ณ ห้องประชุม 101 ชั้น 1 อาคารศูนย์วิจัยการแพทย์ศิริราช (SiMR) คณะแพทยศาสตร์ศิริราชพยาบาล \nคลิกลงทะเบียนได้แล้ววันนี้จนถึง 5 ม.ค. 69หรือจนกว่าจะเต็ม \nวัตถุประสงค์: เพื่อสร้างเสริมศักยภาพและพัฒนาบุคลากรให้สามารถปฏิบัติงานได้อย่างมีประสิทธิภาพและมีความสุข ตลอดจนสร้างการตระหนักรู้ภายในตนเองทำให้เข้าใจตนเอง และผู้อื่นมากขึ้นเพื่อเสริมสร้างสุขภาวะที่ดีให้กับคนในองค์กร
URL:https://www2.si.mahidol.ac.th/th/event/14010/
CATEGORIES:calendar,มีข่าวอยากบอก
END:VEVENT
END:VCALENDAR