BEGIN:VCALENDAR
VERSION:2.0
PRODID:-//คณะแพทยศาสตร์ศิริราชพยาบาล มหาวิทยาลัยมหิดล - ECPv6.15.20//NONSGML v1.0//EN
CALSCALE:GREGORIAN
METHOD:PUBLISH
X-WR-CALNAME:คณะแพทยศาสตร์ศิริราชพยาบาล มหาวิทยาลัยมหิดล
X-ORIGINAL-URL:https://www2.si.mahidol.ac.th/th
X-WR-CALDESC:Events for คณะแพทยศาสตร์ศิริราชพยาบาล มหาวิทยาลัยมหิดล
REFRESH-INTERVAL;VALUE=DURATION:PT1H
X-Robots-Tag:noindex
X-PUBLISHED-TTL:PT1H
BEGIN:VTIMEZONE
TZID:Asia/Bangkok
BEGIN:STANDARD
TZOFFSETFROM:+0700
TZOFFSETTO:+0700
TZNAME:+07
DTSTART:20230101T000000
END:STANDARD
END:VTIMEZONE
BEGIN:VEVENT
DTSTART;TZID=Asia/Bangkok:20241029T090000
DTEND;TZID=Asia/Bangkok:20241031T150000
DTSTAMP:20260422T081651
CREATED:20241002T092059Z
LAST-MODIFIED:20241002T092146Z
UID:7811-1730192400-1730386800@www2.si.mahidol.ac.th
SUMMARY:เชิญชวนร่วมกิจกรรม วันโรคหลอดเลือดสมองโลก ประจำปี 2567
DESCRIPTION:ศูนย์โรคหลอดเลือดสมอง โรงพยาบาลศิริราช ขอเชิญทุกท่านร่วมกิจกรรม วันโรคหลอดเลือดสมองโลก ประจำปี 2567 (WORLD STROKE DAY 2024) ภายใต้หัวข้อ “คนไทยสมองดี (Healthy Thais\, Healthy Brains)” ในวันที่ 29 – 31 ตุลาคม 2567 เวลา 09.00 – 15.00 น. ณ ศาลาศิริราช ๑๐๐ ปี และ อาคาร ๑๐๐ ปี สมเด็จพระศรีนครินทร์ โรงพยาบาลศิริราช \nพบกับกิจกรรมมากมายภายในงาน\n– ประสบการณ์ตรวจเอ็กซ์เรย์คอมพิวเตอร์สมองบนรถรักษาอัมพาตเคลื่อนที่ (Mobile Stroke Unit) พร้อมทราบผล\nทันที 5 รายต่อวัน!*\n– ฟรี! ตรวจประเมินความเสี่ยงโรคหลอดเลือดสมอง ด้วยวิธี Carotid U/S และ TCD\n– บรรยายและเสวนาจากผู้เชี่ยวชาญในสาขาต่าง ๆ\n– บูธให้ความรู้ประชาชนจากโรงพยาบาลศิริราช และหน่วยงานที่เกี่ยวข้อง\n– การจัดแสดงดนตรี ร้านค้า และเวทีกิจกรรม\n– รางวัลและของที่ระลึกมากมาย
URL:https://www2.si.mahidol.ac.th/th/event/7811/
CATEGORIES:calendar,มีข่าวอยากบอก
ATTACH;FMTTYPE=image/jpeg:https://www2.si.mahidol.ac.th/th/wp-content/uploads/2024/10/10-27-67วันหลอดเลือด-EE.jpg
END:VEVENT
BEGIN:VEVENT
DTSTART;TZID=Asia/Bangkok:20241031T083000
DTEND;TZID=Asia/Bangkok:20241101T163000
DTSTAMP:20260422T081651
CREATED:20241008T101031Z
LAST-MODIFIED:20241011T063538Z
UID:7545-1730363400-1730478600@www2.si.mahidol.ac.th
SUMMARY:การอบรมเชิงปฏิบัติการ เรื่อง “ศิลปะบำบัดเพื่อการฟื้นฟูผู้ป่วยโรคเรื้อรัง” ระหว่างวันที่ 31 ต.ค.-1 พ.ย. 67
DESCRIPTION:ภาควิชาเวชศาสตร์ฟื้นฟู คณะแพทยศาสตร์ศิริราชพยาบาล มหาวิทยาลัยมหิดล ขอเชิญ แพทย์ พยาบาล นักบำบัด บุคลากรทางการแพทย์ และผู้สนใจ เข้าร่วมอบรมเชิงปฏิบัติการ เรื่อง “ศิลปะบำบัดเพื่อการฟื้นฟูผู้ป่วยโรคเรื้อรัง” ระหว่างวันที่ 31 ตุลาคม – 1 พฤศจิกายน 2567 ณ ห้องประชุม ตึกสมาคมศิษย์เก่าแพทย์ศิริราช ชั้น 2 คณะแพทยศาสตร์ศิริราชพยาบาล\nคลิกดูรายละเอียดเเละลงทะเบียน  
URL:https://www2.si.mahidol.ac.th/th/event/7545/
CATEGORIES:calendar,อบรม-สัมมนา-บรรยาย-ประชุม
ATTACH;FMTTYPE=image/jpeg:https://www2.si.mahidol.ac.th/th/wp-content/uploads/2024/09/10-31-67-ศิลปะฟื้นฟูผู้ป่วยโรคเรื้อรัง-EE.jpg
END:VEVENT
END:VCALENDAR