BEGIN:VCALENDAR
VERSION:2.0
PRODID:-//คณะแพทยศาสตร์ศิริราชพยาบาล มหาวิทยาลัยมหิดล - ECPv6.15.20//NONSGML v1.0//EN
CALSCALE:GREGORIAN
METHOD:PUBLISH
X-WR-CALNAME:คณะแพทยศาสตร์ศิริราชพยาบาล มหาวิทยาลัยมหิดล
X-ORIGINAL-URL:https://www2.si.mahidol.ac.th/th
X-WR-CALDESC:Events for คณะแพทยศาสตร์ศิริราชพยาบาล มหาวิทยาลัยมหิดล
REFRESH-INTERVAL;VALUE=DURATION:PT1H
X-Robots-Tag:noindex
X-PUBLISHED-TTL:PT1H
BEGIN:VTIMEZONE
TZID:Asia/Bangkok
BEGIN:STANDARD
TZOFFSETFROM:+0700
TZOFFSETTO:+0700
TZNAME:+07
DTSTART:20240101T000000
END:STANDARD
END:VTIMEZONE
BEGIN:VEVENT
DTSTART;TZID=Asia/Bangkok:20251008T090000
DTEND;TZID=Asia/Bangkok:20251008T150000
DTSTAMP:20260422T094310
CREATED:20250825T091132Z
LAST-MODIFIED:20251002T082419Z
UID:13119-1759914000-1759935600@www2.si.mahidol.ac.th
SUMMARY:โครงการ"ศิริราชปฏิบัติบูชา ถวายแด่พระมหากษัตราธิราช และผู้ทรงมีคุณูปการต่อแผ่นดินไทย ประจำปีงบประมาณ 2569" 
DESCRIPTION:งานคุณธรรมและจริยธรรม ขอเชิญบุคลากร เเละ ผู้สนใจ เข้าร่วมกิจกรรมปฏิบัติธรรม เจริญสติ ด้วยการเดินจงกรม นั่งสมาธิ โครงการ”ศิริราชปฏิบัติบูชา ถวายแด่พระมหากษัตราธิราช และผู้ทรงมีคุณูปการต่อแผ่นดินไทย ประจำปีงบประมาณ 2569″  สำหรับเดือนตุลาคม จัดขึ้นในวันพุธที่ 8 ตุลาคม 2568 ณ ห้องประชุมตรีเพ็ชร อาคาร ๑๐๐ ปี สมเด็จพระศรีนริทร์ ชั้น 15 โรงพยาบาลศิริราช \nสอบถามรายละเอียดได้ที่ งานคุณธรรมและจริยธรรม โทร. 02 419 9294
URL:https://www2.si.mahidol.ac.th/th/event/13119/
CATEGORIES:calendar,มีข่าวอยากบอก
ATTACH;FMTTYPE=image/jpeg:https://www2.si.mahidol.ac.th/th/wp-content/uploads/2025/07/10-8-68ปฏิบัติบูชา-EE.jpg
END:VEVENT
BEGIN:VEVENT
DTSTART;TZID=Asia/Bangkok:20251015T090000
DTEND;TZID=Asia/Bangkok:20251015T130000
DTSTAMP:20260422T094310
CREATED:20250908T044413Z
LAST-MODIFIED:20251008T080225Z
UID:13371-1760518800-1760533200@www2.si.mahidol.ac.th
SUMMARY:กิจกรรม Siriraj Hand Hygeine Heroes 2025
DESCRIPTION:งานโรคติดเชื้อ เชิญชวนร่วมกิจกรรมงานรณรงค์และกระตุ้นการทำความสะอาดมือ Siriraj Hand Hygeine Heroes 2025 เพื่อกระตุ้นให้บุคลากรและประชาชนทั่วไปเห็นความสำคัญของการทำความสะอาดมืออย่างถูกวิธี และส่งเสริมให้มีความรู้เรื่องการทำความสะอาดมือ ในวันพุธที่ 15 ตุลาคม 2568 ตั้งแต่เวลา 09.00 – 13.00 น. ณ โถงอาคาร 100 ปี สมเด็จพระศรีนครินทร์ ชั้น 1 โรงพยาบาลศิริราช \n 
URL:https://www2.si.mahidol.ac.th/th/event/13371/
CATEGORIES:calendar,มีข่าวอยากบอก
ATTACH;FMTTYPE=image/jpeg:https://www2.si.mahidol.ac.th/th/wp-content/uploads/2025/09/10-15-68SirirajHand2025-EE.jpg
END:VEVENT
BEGIN:VEVENT
DTSTART;TZID=Asia/Bangkok:20251027T090000
DTEND;TZID=Asia/Bangkok:20251029T150000
DTSTAMP:20260422T094310
CREATED:20250928T092540Z
LAST-MODIFIED:20251002T093434Z
UID:13289-1761555600-1761750000@www2.si.mahidol.ac.th
SUMMARY:กิจกรรมวันโรคหลอดเลือดสมองโลก ประจำปี 2568
DESCRIPTION:ศูนย์โรคหลอดเลือดสมองศิริราช ขอเชิญร่วมกิจกรรมในงานวันโรคหลอดเลือดสมองโลก ประจำปี 2568 หรือ “World Stroke Day 2025″ ภายใต้หัวข้อ “ออกกำลังกายเป็นนิสัย ห่างไกลสโตรก ” ระหว่างวันที่ 27 – 29 ตุลาคม 2568 ณ บริเวณศาลาศิริราช ๑๐๐ ปี และอาคาร ๑๐๐ ปี สมเด็จพระศรีนครินทร์ โรงพยาบาลศิริราช \n 
URL:https://www2.si.mahidol.ac.th/th/event/13289/
CATEGORIES:calendar,มีข่าวอยากบอก
ATTACH;FMTTYPE=image/jpeg:https://www2.si.mahidol.ac.th/th/wp-content/uploads/2025/10/10-27-68stroke-E.jpg
END:VEVENT
BEGIN:VEVENT
DTSTART;TZID=Asia/Bangkok:20251028T083000
DTEND;TZID=Asia/Bangkok:20251028T160000
DTSTAMP:20260422T094310
CREATED:20250908T081721Z
LAST-MODIFIED:20251111T032627Z
UID:13379-1761640200-1761667200@www2.si.mahidol.ac.th
SUMMARY:กิจกรรมอบรมเชิงปฏิบัติการ Cards & Conversation Moments
DESCRIPTION:งานสร้างเสริมศักยภาพและพัฒนาบุคลากร ฝ่ายทรัพยากรบุคคล ขอเชิญบุคลากนเข้าร่วมอบรมเชิงปฏิบัติการ Cards & Conversation Moments โดยจัดอบรม จำนวน 2 วัน ในวันที่ 28 ตุลาคม 2568 เเละ วันที่ 28 พฤศจิกายน 2568 ณ ห้องประชุม 101 ชั้น 1 อาคารศูนย์วิจัยการเเพทย์ศิริราช (SiMR) คณะแพทยศาสตร์ศิริราชพยาบาล ม.มหิดล \nวัตถุประสงค์ : เพื่อให้บุคลากรสามารถใช้การ์ดเป็นเครื่องมือเพื่อสะท้อนความคิด ความรู้สึก และพฤติกรรมของตนเอง สามารถเชื่อมโยงการเรียนรู้จากการ์ดไปสู่การปฏิบัติจริงในชีวิตประจำวัน ทั้งในชีวิตส่วนตัวและการทำงาน เป็นการเปิดประสบการณ์ใหม่ในการสื่อสารอย่างลึกซึ้ง \nสอบถามเพิ่มเติมได้ที่ งานสร้างเสริมศักยภาพและพัฒนาบุคลากร โทร. 9 4919\, 9 8607 \nลงทะเบียนได้ตั้งเเต่วันนี้ – 15 ตุลาคม 2568 \nคลิกลงทะเบียน  (อ่านรายละเอียดโครงการเพิ่มเติมได้ที่ลิงก์แบบฟอร์มลงทะเบียน) \n \n 
URL:https://www2.si.mahidol.ac.th/th/event/13379/
CATEGORIES:calendar,อบรม-สัมมนา-บรรยาย-ประชุม
ATTACH;FMTTYPE=image/jpeg:https://www2.si.mahidol.ac.th/th/wp-content/uploads/2025/09/10-28-68Cards_2568-EE.jpg
END:VEVENT
BEGIN:VEVENT
DTSTART;TZID=Asia/Bangkok:20251028T090000
DTEND;TZID=Asia/Bangkok:20251028T120000
DTSTAMP:20260422T094310
CREATED:20250909T040042Z
LAST-MODIFIED:20251009T044840Z
UID:13393-1761642000-1761652800@www2.si.mahidol.ac.th
SUMMARY:การบรรยาย Innovation Academy 2025
DESCRIPTION:ศูนย์ขับเคลื่อนงานนวัตกรรมเพื่อความเป็นเลิศ (SiEIC) ขอเชิญเข้าร่วมฟังบรรยาย Innovation Academy 2025 หัวข้อ ” The Journey of Thai FDA  approval on a Medical Device: A Case Study and Common Mistakes” ในวันที่ 28 ตุลาคม 2568 เวลา 09.00 – 12.00 น. ณ ห้องประชุม ชั้น 3 ห้อง 304-305 ศูนย์วิจัยทางการแพทย์ (SiMR) คณะแพทยศาสตร์ศิริราชพยาบาล \nคลิกลงทะเบียน  (ฟรี ไม่มีค่าใช้จ่าย |  รับจำนวนจำกัด) \nสอบถามเพิ่มเติมได้ที่ ศูนย์ขับเคลื่อนงานนวัตกรรมเพื่อความเป็นเลิศ (SiEIC)  โทร. 02 419 4920-1 หรือ E-mail: Sirirajeic@gmail.com \nวัตถุประสงค์ : เพื่อเสริมสร้างความเข้าใจในกระบวนการสร้างนวัตกรรมทางการแพทย์ให้แก่บุคลากรภายในคณะฯ โดยมุ่งเน้นการพัฒนาความรู้และทักษะที่จำเป็นในการสร้างนวัตกรรมทางการแพทย์ ซึ่งจะช่วยลดระยะเวลาในการหลงทางและเพิ่มประสิทธิภาพในการพัฒนานวัตกรรมที่สามารถนำไปใช้จริงในทางคลินิก โครงการนี้จึงมีเป้าหมายที่จะพัฒนาวิธีการรักษา เครื่องมือทางการแพทย์ และระบบการให้บริการทางสุขภาพที่จะช่วยยกระดับคุณภาพชีวิตของประชาชนและเสริมสร้างความเข้มแข็งให้กับระบบสาธารณสุขของประเทศ \n 
URL:https://www2.si.mahidol.ac.th/th/event/13393/
CATEGORIES:calendar,อบรม-สัมมนา-บรรยาย-ประชุม
ATTACH;FMTTYPE=image/jpeg:https://www2.si.mahidol.ac.th/th/wp-content/uploads/2025/09/10-28-68InnovationAcademy-E.jpg
END:VEVENT
BEGIN:VEVENT
DTSTART;TZID=Asia/Bangkok:20251030T100000
DTEND;TZID=Asia/Bangkok:20251030T110000
DTSTAMP:20260422T094310
CREATED:20250921T074511Z
LAST-MODIFIED:20251021T082128Z
UID:13583-1761818400-1761822000@www2.si.mahidol.ac.th
SUMMARY:กิจกรรม "โครงการทำบุญวันเกิดประจำเดือนตุลาคมของบุคลากร"
DESCRIPTION:งานคุณธรรมและจริยธรรม ขอเชิญบุคลากรร่วมพิธีเจริญพระพุทธมนต์และถวายสังฆทานเนื่องใน “โครงการทำบุญวันเกิดประจำเดือนของบุคลากรคณะแพทยศาสตร์ศิริราชพยาบาล” โดยจะจัดทำกิจกรรมในรูปแบบของการจัดให้มีการถวายสังฆทาน โดยให้ผู้ที่มีวันเกิดในแต่ละเดือนมาร่วมพิธี เพื่อเป็นโอกาสในการทำนุบำรุงพระพุทธศาสนาและเป็นการตั้งมั่นในกุศลกรรมกระทำความดี \nสำหรับเดือนตุลาคม จัดขึ้นในวันที่ 30 ตุลาคม 2568 เเละ เดือนพฤศจิกายน 2568 จัดขึ้นในวันที่ 27 พฤศจิกายน 2568 เวลา 10.00 – 10.50 น. ณ ห้องสันติภูมิ อาคารชัยนาทนเรนทรานุสรณ์ (ตึกผู้ป่วยนอกเก่า) ชั้น 1 โรงพยาบาลศิรริาช
URL:https://www2.si.mahidol.ac.th/th/event/13583/
CATEGORIES:calendar,มีข่าวอยากบอก
END:VEVENT
BEGIN:VEVENT
DTSTART;TZID=Asia/Bangkok:20251031T080000
DTEND;TZID=Asia/Bangkok:20251031T143000
DTSTAMP:20260422T094310
CREATED:20250929T081622Z
LAST-MODIFIED:20251021T072447Z
UID:11299-1761897600-1761921000@www2.si.mahidol.ac.th
SUMMARY:ขอเชิญร่วมทำบุญตามกำลังศรัทธาเพื่อสมทบโดยถวายเป็นพระราชกุศลในการถวายผ้าพระกฐินพระราชทานประจำปี ๒๕๖๘
DESCRIPTION:พระบาทสมเด็จพระเจ้าอยู่หัว ทรงพระกรุณาโปรดเกล้าโปรดกระหม่อมพระราชทานผ้าพระกฐิน ประจำปี ๒๕๖๘ ให้คณะแพทยศาสตร์ศิริราชพยาบาล คณะพยาบาลศาสตร์ คณะเทคนิคการแพทย์ และคณะกายภาพบำบัด มหาวิทยาลัยมหิดล นำไปถวายพระสงฆ์จำพรรษา ณ วัดกาญจนสิงหาสน์วรวิหาร แขวงคลองชักพระ เขตตลิ่งชัน กรุงเทพมหานคร ในวันศุกร์ที่ ๓๑ ตุลาคม ๒๕๖๘ เวลา ๑๔.๐๐ น. \nคณะแพทยศาสตร์ศิริราชพยาบาล ม.มหิดล ขอเชิญชวนพุทธศาสนิกชนและบุคลากรในสังกัดร่วมทำบุญตามกำลังศรัทธาเพื่อสมทบโดยถวายเป็นพระราชกุศลในการถวายผ้าพระกฐินพระราชทานประจำปี ๒๕๖๘ \nผ่านช่องทางดังนี้ \n1. เงินสด นำส่งได้ที่ฝ่ายการคลัง ตึกชัยนาทนเรนทรานุสรณ์ ชั้น ๒ คณะแพทยศาสตร์ศิริราชพยาบาล \n2. เช็คธนาคาร สั่งจ่าย “วัดกาญจนสิงหาสน์วรวิหาร” \n3. โอนเงินเข้าบัญชีประเภทกระแสรายวัน ชื่อบัญชี “กฐินพระราชทานคณะแพทยศาสตร์ศิริราชพยาบาลประจำปี ๒๕๖๘ ธนาคารไทยพาณิชย์ จำกัด (มหาชน) สาขาศิริราช เลขที่บัญชี ๐๑๖-๓-๐๔๖๘๒-๒ \n**สำหรับท่านที่ร่วมบริจาคเงิน ๑๐๐ บาทขึ้นไป ทางคณะ ฯ จะดำเนินการออกใบอนุโมทนาบัตรให้** \nทั้งนี้ ขอความกรุณาส่งหลักฐานแบบฟอร์มร่วมอนุโมทนาบุญและสำเนาใบโอนเงิน ผ่านทาง E-mail : sifin@mahidol.ac.th เพื่อจะได้จัดส่งใบอนุโมทนาบัตรให้ท่านต่อไป โดยคณะฯ จะขอปิดรับการบริจาค ในวันที่ ๗ พฤศจิกายน ๒๕๖๘ และจะดำเนินการออกใบอนุโมทนาบัตรสิ้นสุดวันที่ ๑๔ พฤศจิกายน ๒๕๖๘ หากเกินกำหนดคณะ ฯ จะไม่สามารถดำเนินการออกใบอนุโมทนาบัตร สอบถามรายละเอียดเพิ่มเติมได้ที่ งานการเงิน ฝ่ายการคลัง โทร. ๐๒ ๔๑๔ ๑๗๖๘ \,๐๒ ๔๑๔ ๑๗๘๕
URL:https://www2.si.mahidol.ac.th/th/event/11299/
CATEGORIES:calendar,มีข่าวอยากบอก
ATTACH;FMTTYPE=image/jpeg:https://www2.si.mahidol.ac.th/th/wp-content/uploads/2024/06/10-31-68ทำบุญกฐิน-E.jpg
END:VEVENT
END:VCALENDAR